BEGIN:VCALENDAR
VERSION:2.0
PRODID:-//Kunterbunt - Familiennetzwerk Ybbs - ECPv6.15.20//NONSGML v1.0//EN
CALSCALE:GREGORIAN
METHOD:PUBLISH
X-WR-CALNAME:Kunterbunt - Familiennetzwerk Ybbs
X-ORIGINAL-URL:https://www.kunterbunt-ybbs.at
X-WR-CALDESC:Veranstaltungen für Kunterbunt - Familiennetzwerk Ybbs
REFRESH-INTERVAL;VALUE=DURATION:PT1H
X-Robots-Tag:noindex
X-PUBLISHED-TTL:PT1H
BEGIN:VTIMEZONE
TZID:Europe/Berlin
BEGIN:DAYLIGHT
TZOFFSETFROM:+0100
TZOFFSETTO:+0200
TZNAME:CEST
DTSTART:20250330T010000
END:DAYLIGHT
BEGIN:STANDARD
TZOFFSETFROM:+0200
TZOFFSETTO:+0100
TZNAME:CET
DTSTART:20251026T010000
END:STANDARD
BEGIN:DAYLIGHT
TZOFFSETFROM:+0100
TZOFFSETTO:+0200
TZNAME:CEST
DTSTART:20260329T010000
END:DAYLIGHT
BEGIN:STANDARD
TZOFFSETFROM:+0200
TZOFFSETTO:+0100
TZNAME:CET
DTSTART:20261025T010000
END:STANDARD
BEGIN:DAYLIGHT
TZOFFSETFROM:+0100
TZOFFSETTO:+0200
TZNAME:CEST
DTSTART:20270328T010000
END:DAYLIGHT
BEGIN:STANDARD
TZOFFSETFROM:+0200
TZOFFSETTO:+0100
TZNAME:CET
DTSTART:20271031T010000
END:STANDARD
END:VTIMEZONE
BEGIN:VEVENT
DTSTART;TZID=Europe/Berlin:20260612T090000
DTEND;TZID=Europe/Berlin:20260612T113000
DTSTAMP:20260421T131846
CREATED:20260319T151104Z
LAST-MODIFIED:20260421T082750Z
UID:10002287-1781254800-1781263800@www.kunterbunt-ybbs.at
SUMMARY:REVAN Workshops: Richtig essen von Anfang an
DESCRIPTION:Kursleiterin\nÖKG | Jaqueline Haubenberger\, BSc | Diätologin\, Gesundheitsförderung \nWas erwartet dich\nBesuchen Sie die kostenlosen Ernährungsworkshops der ÖGK!\nHolen Sie sich praktische Tipps zu folgenden Themen:\n• Ernährung in der Schwangerschaft und Stillzeit\n• Ernährung von Kindern im ersten Lebensjahr\n• Ernährung von ein- bis dreijährigen Kindern \nTermine\nWorkshop: Ernährung für Kinder im 1. Lebensjahr\nFreitag\, 08. Mai 2026 | 09:00 – 11:30 Uhr \nWorkshop: Ernährung für Kinder 1 – 3 Jahre\nFreitag\, 12. Juni 2026 | 09:00 – 11:30 Uhr \nOrt\nPfarrzentrum Ybbs\, Peter-Rosegger-Promenade 5\, 3370 Ybbs/Donau \nKosten    \nkostenlos \nAnmeldung\nbis 3 Tage vor dem Termin: www.richtigessenvonanfangan.at \noder über das Anmeldeformular (bitte im Kommentarfeld das Datum – Workshop 1\, 2 angeben) \nBitte aktiviere JavaScript in deinem Browser\, um dieses Formular fertigzustellen.Bitte aktiviere JavaScript in deinem Browser\, um dieses Formular fertigzustellen.		\n			Ort Name Kunterbunt\n			\n		\n		Wenn Sie mehrere Personen zum selben Kurs anmelden möchten\, füllen Sie dieses Formular nacheinander aus.  Geschlecht *WeiblichMännlichName *E-Mail-Adresse *Ihre Telefonnummer *Sind Sie Kunterbunt Mitglied? *JaNeinAnmerkungAbsenden
URL:https://www.kunterbunt-ybbs.at/event/revan-workshops-richtig-essen-von-anfang-an/2026-06-12/
LOCATION:Pfarrzentrum Ybbs/Donau\, Peter Rosegger Promenade 5\, Ybbs an der Donau\, Niederösterreich\, 3370\, Österreich
CATEGORIES:Veranstaltungen
ATTACH;FMTTYPE=image/jpeg:https://www.kunterbunt-ybbs.at/wp-content/uploads/2023/07/Bilder_web-29.jpg
ORGANIZER;CN="Kunterbunt Ybbs":MAILTO:kunterbunt.ybbs@gmail.com
GEO:48.1795792;15.0829745
X-APPLE-STRUCTURED-LOCATION;VALUE=URI;X-ADDRESS=Pfarrzentrum Ybbs/Donau Peter Rosegger Promenade 5 Ybbs an der Donau Niederösterreich 3370 Österreich;X-APPLE-RADIUS=500;X-TITLE=Peter Rosegger Promenade 5:geo:15.0829745,48.1795792
END:VEVENT
BEGIN:VEVENT
DTSTART;TZID=Europe/Berlin:20260616T150000
DTEND;TZID=Europe/Berlin:20260616T160000
DTSTAMP:20260421T131846
CREATED:20260120T094154Z
LAST-MODIFIED:20260128T184235Z
UID:10002080-1781622000-1781625600@www.kunterbunt-ybbs.at
SUMMARY:Kreativtreff "Sommer - Garten - Blumenfreude”
DESCRIPTION:Kursleiterin\nDaniela Schütz | Eltern-Kind-Spielgruppenleiterin \nWas erwartet dich\nGemeinsam machen wir uns auf eine Reise mit dem Erzähltheater „Kamishibai“\nDas Kunterbunt-Kreativtreff ist ein offenes Gruppentreffen zu dem alle Kinder im Alter von ca. 3-6 Jahren herzlich eingeladen sind. Einmal im Quartal treffen wir uns zu einem bestimmten Thema\, es wird vorgelesen\, getanzt\, gespielt oder etwas Passendes zum Thema gebastelt. Die gemeinsame Zeit der Kinder unter sich steht hier im Vordergrund. Begleitpersonen können gerne dabei bleiben\, je nach Belieben und Selbstständigkeit der Kinder. \nTermin\nDienstag\, 16. Juni 2026 | „Sommer – Garten – Blumenfreude” | 15:00 – 16:00 Uhr \nOrt\nPfarrzentrum Ybbs\, Peter-Rosegger-Promenade\, 3370 Ybbs/Donau \nKosten    \n8\,- EURO | 5\,- EURO für Kunterbunt-Mitglieder \nKontakt\nDaniela Schütz | kunterbunt.ybbs@gmail.com | 0650/71 52 815  \nAnmeldung\nBitte aktiviere JavaScript in deinem Browser\, um dieses Formular fertigzustellen.Bitte aktiviere JavaScript in deinem Browser\, um dieses Formular fertigzustellen.		\n			Das Beginn Kunterbunt\n			\n		\n		Wenn Sie mehrere Kinder zum selben Kurs anmelden möchten\, füllen Sie dieses Formular nacheinander aus.  Name des Erziehungsberechtigten *E-Mail-Adresse *Ihre Telefonnummer *Geschlecht Ihres Kindes *WeiblichMännlichName Ihres Kindes *Alter Ihres Kindes *Sind Sie Kunterbunt Mitglied? *JaNeinDas sollte Kunterbunt über mein Kind wissen?Absenden
URL:https://www.kunterbunt-ybbs.at/event/kreativtreff-sommer-garten-blumenfreude/
LOCATION:Pfarrzentrum Ybbs/Donau\, Peter Rosegger Promenade 5\, Ybbs an der Donau\, Niederösterreich\, 3370\, Österreich
CATEGORIES:Musik & Kreativität
ATTACH;FMTTYPE=image/jpeg:https://www.kunterbunt-ybbs.at/wp-content/uploads/2026/01/Bilder_web-2026-01-20T104113.709.jpg
ORGANIZER;CN="Kunterbunt Ybbs":MAILTO:kunterbunt.ybbs@gmail.com
GEO:48.1795792;15.0829745
X-APPLE-STRUCTURED-LOCATION;VALUE=URI;X-ADDRESS=Pfarrzentrum Ybbs/Donau Peter Rosegger Promenade 5 Ybbs an der Donau Niederösterreich 3370 Österreich;X-APPLE-RADIUS=500;X-TITLE=Peter Rosegger Promenade 5:geo:15.0829745,48.1795792
END:VEVENT
BEGIN:VEVENT
DTSTART;TZID=Europe/Berlin:20260619T100000
DTEND;TZID=Europe/Berlin:20260619T110000
DTSTAMP:20260421T131846
CREATED:20260119T175809Z
LAST-MODIFIED:20260316T193436Z
UID:10002063-1781863200-1781866800@www.kunterbunt-ybbs.at
SUMMARY:Mutter-Eltern-Beratung
DESCRIPTION:Was erwartet dich\nEin kostenloses Beratungsangebot des Land NÖ in Kooperation mit dem Familiennetzwerk Kunterbunt. \nDas Mutter-Eltern-Beratungsteam beratet Sie gerne zu folgenden Fragen: \n\nEntwicklung und Förderung Ihres Kindes\nErheben eines allgemeinen Status mit der motorischen Entwicklungen samt ihren Abweichungen\nTipps zur Frühförderung der motorischen Fähigkeiten\nVerlaufsbeobachtung der sprachlichen Entwicklung\nBeobachtung des psychosozialen Status (Eltern\, Bezugspersonen)\n\nTermine\nFreitag\, 20. März\, 17. April\, 15. Mai\, 19. Juni\, 24. Juli 2026 | jeweils 10:00 -11:00 Uhr \nNEU: es besteht die Möglichkeit während dem Babytreff die Beratung in Anspruch zu nehmen \nOrt\nPfarrzentrum Ybbs/Donau\, Peter-Rosegger-Promenade 5\, 3370 Ybbs/Donau \nKosten\nkostenlos \nKontakt\nkunterbunt.ybbs@gmail.com oder www.ybbs.gv.at
URL:https://www.kunterbunt-ybbs.at/event/mutter-eltern-beratung-2/2026-06-19/
LOCATION:Pfarrzentrum Ybbs/Donau\, Peter Rosegger Promenade 5\, Ybbs an der Donau\, Niederösterreich\, 3370\, Österreich
CATEGORIES:Schwangerschaft & Baby,Vereinsangebot
ATTACH;FMTTYPE=image/jpeg:https://www.kunterbunt-ybbs.at/wp-content/uploads/2022/06/elternberatung2_web.jpg
ORGANIZER;CN="Kunterbunt Ybbs":MAILTO:kunterbunt.ybbs@gmail.com
GEO:48.1795792;15.0829745
X-APPLE-STRUCTURED-LOCATION;VALUE=URI;X-ADDRESS=Pfarrzentrum Ybbs/Donau Peter Rosegger Promenade 5 Ybbs an der Donau Niederösterreich 3370 Österreich;X-APPLE-RADIUS=500;X-TITLE=Peter Rosegger Promenade 5:geo:15.0829745,48.1795792
END:VEVENT
BEGIN:VEVENT
DTSTART;TZID=Europe/Berlin:20260619T100000
DTEND;TZID=Europe/Berlin:20260619T110000
DTSTAMP:20260421T131846
CREATED:20260318T202227Z
LAST-MODIFIED:20260318T202227Z
UID:10002282-1781863200-1781866800@www.kunterbunt-ybbs.at
SUMMARY:Mutter-Eltern-Beratung
DESCRIPTION:Was erwartet dich\nEin kostenloses Beratungsangebot des Land NÖ in Kooperation mit dem Familiennetzwerk Kunterbunt. \nDas Mutter-Eltern-Beratungsteam beratet Sie gerne zu folgenden Fragen: \n\nEntwicklung und Förderung Ihres Kindes\nErheben eines allgemeinen Status mit der motorischen Entwicklungen samt ihren Abweichungen\nTipps zur Frühförderung der motorischen Fähigkeiten\nVerlaufsbeobachtung der sprachlichen Entwicklung\nBeobachtung des psychosozialen Status (Eltern\, Bezugspersonen)\n\nTermine\nFreitag\, 20. März\, 17. April\, 15. Mai\, 19. Juni\, 24. Juli 2026 | jeweils 10:00 -11:00 Uhr \nNEU: es besteht die Möglichkeit während dem Babytreff die Beratung in Anspruch zu nehmen \nOrt\nPfarrzentrum Ybbs/Donau\, Peter-Rosegger-Promenade 5\, 3370 Ybbs/Donau \nKosten\nkostenlos \nKontakt\nkunterbunt.ybbs@gmail.com oder www.ybbs.gv.at
URL:https://www.kunterbunt-ybbs.at/event/mutter-eltern-beratung/2026-06-19/
LOCATION:Pfarrzentrum Ybbs/Donau\, Peter Rosegger Promenade 5\, Ybbs an der Donau\, Niederösterreich\, 3370\, Österreich
CATEGORIES:Veranstaltungen
ATTACH;FMTTYPE=image/jpeg:https://www.kunterbunt-ybbs.at/wp-content/uploads/2022/06/elternberatung2_web.jpg
ORGANIZER;CN="Kunterbunt Ybbs":MAILTO:kunterbunt.ybbs@gmail.com
GEO:48.1795792;15.0829745
X-APPLE-STRUCTURED-LOCATION;VALUE=URI;X-ADDRESS=Pfarrzentrum Ybbs/Donau Peter Rosegger Promenade 5 Ybbs an der Donau Niederösterreich 3370 Österreich;X-APPLE-RADIUS=500;X-TITLE=Peter Rosegger Promenade 5:geo:15.0829745,48.1795792
END:VEVENT
BEGIN:VEVENT
DTSTART;TZID=Europe/Berlin:20260623T180000
DTEND;TZID=Europe/Berlin:20260623T190000
DTSTAMP:20260421T131846
CREATED:20260126T141017Z
LAST-MODIFIED:20260127T182851Z
UID:10002197-1782237600-1782241200@www.kunterbunt-ybbs.at
SUMMARY:Duftbalance - Duftreisen
DESCRIPTION:Kursleiterin\nKatharina Howanietz | Aromaberaterin\, Trainerin für Chakrenharmonisierung\, Zert. Neurodings®-Trainerin \nDas erwartet dich\nDuftbalance-Duftreisen eine einzigartige Kombination von Duft\, Klang & Fantasiereise.  \nDurch das gezielte Einatmen von ätherischen Ölen öffnen wir die Tür zu unserer inneren Welt und erleben eine tiefe Verbindung zu unserem Geist und Körper sowie zu unserer Seele. Klangschalen mit ihrem harmonischen Klang begleiten uns in ein tiefes Entspannungserlebnis. Sanfte Töne\, welche die innere Balance fördern und uns in einen Zustand der Ruhe und Ausgeglichenheit versetzten. \nDuftbalance – diese einzigartige Verbindung von Klangschalen\, ätherischen Ölen\, Affirmationen und bewusster Atmung schafft eine ganzheitliche Methode\, um Stress abzubauen und das Wohlbefinden zu steigern \nTermin\nDI\, 23.06.2026\, 18:00 bis 19:00 Uhr \nOrt\nPfarrzentrum Ybbs\, Peter-Rosegger-Promenade 5\, 3370 Ybbs/Donau \nKosten     \n15\,- EURO pro Termin\n \nAnmeldung\nBis Donnerstag vor dem Termin: Katharina Howanietz | kreativefantasy@gmail.com |0650/49 77 026 | www.kreativefantasy.com
URL:https://www.kunterbunt-ybbs.at/event/duftbalance-duftreisen-4/
LOCATION:Pfarrzentrum Ybbs/Donau\, Peter Rosegger Promenade 5\, Ybbs an der Donau\, Niederösterreich\, 3370\, Österreich
CATEGORIES:Sport & Entspannung
ATTACH;FMTTYPE=image/png:https://www.kunterbunt-ybbs.at/wp-content/uploads/2024/12/Duftreise-Titelbild.png
ORGANIZER;CN="Katharina Howanietz":MAILTO:kreativefantasy@gmail.com
GEO:48.1795792;15.0829745
X-APPLE-STRUCTURED-LOCATION;VALUE=URI;X-ADDRESS=Pfarrzentrum Ybbs/Donau Peter Rosegger Promenade 5 Ybbs an der Donau Niederösterreich 3370 Österreich;X-APPLE-RADIUS=500;X-TITLE=Peter Rosegger Promenade 5:geo:15.0829745,48.1795792
END:VEVENT
BEGIN:VEVENT
DTSTART;TZID=Europe/Berlin:20260724T100000
DTEND;TZID=Europe/Berlin:20260724T110000
DTSTAMP:20260421T131846
CREATED:20260119T175809Z
LAST-MODIFIED:20260316T193436Z
UID:10002064-1784887200-1784890800@www.kunterbunt-ybbs.at
SUMMARY:Mutter-Eltern-Beratung
DESCRIPTION:Was erwartet dich\nEin kostenloses Beratungsangebot des Land NÖ in Kooperation mit dem Familiennetzwerk Kunterbunt. \nDas Mutter-Eltern-Beratungsteam beratet Sie gerne zu folgenden Fragen: \n\nEntwicklung und Förderung Ihres Kindes\nErheben eines allgemeinen Status mit der motorischen Entwicklungen samt ihren Abweichungen\nTipps zur Frühförderung der motorischen Fähigkeiten\nVerlaufsbeobachtung der sprachlichen Entwicklung\nBeobachtung des psychosozialen Status (Eltern\, Bezugspersonen)\n\nTermine\nFreitag\, 20. März\, 17. April\, 15. Mai\, 19. Juni\, 24. Juli 2026 | jeweils 10:00 -11:00 Uhr \nNEU: es besteht die Möglichkeit während dem Babytreff die Beratung in Anspruch zu nehmen \nOrt\nPfarrzentrum Ybbs/Donau\, Peter-Rosegger-Promenade 5\, 3370 Ybbs/Donau \nKosten\nkostenlos \nKontakt\nkunterbunt.ybbs@gmail.com oder www.ybbs.gv.at
URL:https://www.kunterbunt-ybbs.at/event/mutter-eltern-beratung-2/2026-07-24/
LOCATION:Pfarrzentrum Ybbs/Donau\, Peter Rosegger Promenade 5\, Ybbs an der Donau\, Niederösterreich\, 3370\, Österreich
CATEGORIES:Schwangerschaft & Baby,Vereinsangebot
ATTACH;FMTTYPE=image/jpeg:https://www.kunterbunt-ybbs.at/wp-content/uploads/2022/06/elternberatung2_web.jpg
ORGANIZER;CN="Kunterbunt Ybbs":MAILTO:kunterbunt.ybbs@gmail.com
GEO:48.1795792;15.0829745
X-APPLE-STRUCTURED-LOCATION;VALUE=URI;X-ADDRESS=Pfarrzentrum Ybbs/Donau Peter Rosegger Promenade 5 Ybbs an der Donau Niederösterreich 3370 Österreich;X-APPLE-RADIUS=500;X-TITLE=Peter Rosegger Promenade 5:geo:15.0829745,48.1795792
END:VEVENT
BEGIN:VEVENT
DTSTART;TZID=Europe/Berlin:20260724T100000
DTEND;TZID=Europe/Berlin:20260724T110000
DTSTAMP:20260421T131846
CREATED:20260318T202227Z
LAST-MODIFIED:20260318T202227Z
UID:10002283-1784887200-1784890800@www.kunterbunt-ybbs.at
SUMMARY:Mutter-Eltern-Beratung
DESCRIPTION:Was erwartet dich\nEin kostenloses Beratungsangebot des Land NÖ in Kooperation mit dem Familiennetzwerk Kunterbunt. \nDas Mutter-Eltern-Beratungsteam beratet Sie gerne zu folgenden Fragen: \n\nEntwicklung und Förderung Ihres Kindes\nErheben eines allgemeinen Status mit der motorischen Entwicklungen samt ihren Abweichungen\nTipps zur Frühförderung der motorischen Fähigkeiten\nVerlaufsbeobachtung der sprachlichen Entwicklung\nBeobachtung des psychosozialen Status (Eltern\, Bezugspersonen)\n\nTermine\nFreitag\, 20. März\, 17. April\, 15. Mai\, 19. Juni\, 24. Juli 2026 | jeweils 10:00 -11:00 Uhr \nNEU: es besteht die Möglichkeit während dem Babytreff die Beratung in Anspruch zu nehmen \nOrt\nPfarrzentrum Ybbs/Donau\, Peter-Rosegger-Promenade 5\, 3370 Ybbs/Donau \nKosten\nkostenlos \nKontakt\nkunterbunt.ybbs@gmail.com oder www.ybbs.gv.at
URL:https://www.kunterbunt-ybbs.at/event/mutter-eltern-beratung/2026-07-24/
LOCATION:Pfarrzentrum Ybbs/Donau\, Peter Rosegger Promenade 5\, Ybbs an der Donau\, Niederösterreich\, 3370\, Österreich
CATEGORIES:Veranstaltungen
ATTACH;FMTTYPE=image/jpeg:https://www.kunterbunt-ybbs.at/wp-content/uploads/2022/06/elternberatung2_web.jpg
ORGANIZER;CN="Kunterbunt Ybbs":MAILTO:kunterbunt.ybbs@gmail.com
GEO:48.1795792;15.0829745
X-APPLE-STRUCTURED-LOCATION;VALUE=URI;X-ADDRESS=Pfarrzentrum Ybbs/Donau Peter Rosegger Promenade 5 Ybbs an der Donau Niederösterreich 3370 Österreich;X-APPLE-RADIUS=500;X-TITLE=Peter Rosegger Promenade 5:geo:15.0829745,48.1795792
END:VEVENT
END:VCALENDAR