BEGIN:VCALENDAR
VERSION:2.0
PRODID:-//Kunterbunt - Familiennetzwerk Ybbs - ECPv6.15.20//NONSGML v1.0//EN
CALSCALE:GREGORIAN
METHOD:PUBLISH
X-ORIGINAL-URL:https://www.kunterbunt-ybbs.at
X-WR-CALDESC:Veranstaltungen für Kunterbunt - Familiennetzwerk Ybbs
REFRESH-INTERVAL;VALUE=DURATION:PT1H
X-Robots-Tag:noindex
X-PUBLISHED-TTL:PT1H
BEGIN:VTIMEZONE
TZID:Europe/Berlin
BEGIN:DAYLIGHT
TZOFFSETFROM:+0100
TZOFFSETTO:+0200
TZNAME:CEST
DTSTART:20240331T010000
END:DAYLIGHT
BEGIN:STANDARD
TZOFFSETFROM:+0200
TZOFFSETTO:+0100
TZNAME:CET
DTSTART:20241027T010000
END:STANDARD
BEGIN:DAYLIGHT
TZOFFSETFROM:+0100
TZOFFSETTO:+0200
TZNAME:CEST
DTSTART:20250330T010000
END:DAYLIGHT
BEGIN:STANDARD
TZOFFSETFROM:+0200
TZOFFSETTO:+0100
TZNAME:CET
DTSTART:20251026T010000
END:STANDARD
BEGIN:DAYLIGHT
TZOFFSETFROM:+0100
TZOFFSETTO:+0200
TZNAME:CEST
DTSTART:20260329T010000
END:DAYLIGHT
BEGIN:STANDARD
TZOFFSETFROM:+0200
TZOFFSETTO:+0100
TZNAME:CET
DTSTART:20261025T010000
END:STANDARD
BEGIN:DAYLIGHT
TZOFFSETFROM:+0100
TZOFFSETTO:+0200
TZNAME:CEST
DTSTART:20270328T010000
END:DAYLIGHT
BEGIN:STANDARD
TZOFFSETFROM:+0200
TZOFFSETTO:+0100
TZNAME:CET
DTSTART:20271031T010000
END:STANDARD
END:VTIMEZONE
BEGIN:VEVENT
DTSTART;TZID=Europe/Berlin:20260417T100000
DTEND;TZID=Europe/Berlin:20260417T113000
DTSTAMP:20260421T114809
CREATED:20260128T191045Z
LAST-MODIFIED:20260128T191045Z
UID:10002123-1776420000-1776425400@www.kunterbunt-ybbs.at
SUMMARY:Tierischer Zwergenvormittag
DESCRIPTION:Kursleiterin\nMagdalena Schild | Fachkraft für Tiergestützte und Naturgestützte Pädagogik \nWas erwartet dich\nGemeinsam mit meinen Tieren möchte ich auch jüngeren Kindern die Welt der Tiere näher bringen. Wir werden Tiere füttern\, streicheln\, beobachten\, bürsten und vieles mehr. Spiel\, Spaß und Kreativität stehen in dieser wertvollen Zeit am Programm. \nFür Babys ab 6 Monate. \nTermine\nSamstag\, 21. März\,17. April\, 23.Mai\, 13. Juni\, 04.Juli\, 14. August 2026 | 10:00 – 11:30 Uhr \nOrt\nHauptstraße 92\, 3381 Golling \nKosten     \n20\,- EURO pro Termin pro Kind (inkl. 1 Begleitperson) | 15\,- EURO Geschwisterkinder \nAnmeldung\nMagdalena Schild | tierische.auszeit@gmail.com | 0664/ 30 21 104 | tierischeauszeit.at \nZum Kurs mitzubringen\nFestes Schuhwerk\, dem Wetter entsprechende Kleidung\, Trinkflasche
URL:https://www.kunterbunt-ybbs.at/event/tierischer-zwergenvormittag-3/2026-04-17/
LOCATION:Tierische Auszeit\, Golling\, Niederösterreich\, 3381
CATEGORIES:Natur & Tiere
ATTACH;FMTTYPE=image/jpeg:https://www.kunterbunt-ybbs.at/wp-content/uploads/2024/01/4.jpg
ORGANIZER;CN="Magdalena Schild":MAILTO:tierische.auszeit@gmail.com
GEO:48.1956349;15.1772051
END:VEVENT
BEGIN:VEVENT
DTSTART;TZID=Europe/Berlin:20260411T140000
DTEND;TZID=Europe/Berlin:20260411T160000
DTSTAMP:20260421T114809
CREATED:20260128T192851Z
LAST-MODIFIED:20260128T192851Z
UID:10002119-1775916000-1775923200@www.kunterbunt-ybbs.at
SUMMARY:Tierisches Frühlingsfest
DESCRIPTION:Kursleiterin\nMagdalena Schild | Fachkraft für Tiergestützte und Naturgestützte Pädagogik \nWas erwartet dich\nGemeinsam mit tierischer Begleitung erforschen wir den Lebensraum Wald. Wir erkunden die Natur lernen Wissenswertes über den Frühling und die Frühlingsblüher und machen uns auf die Suche nach den Bewohnern des Waldes. Anschließend werden wir die Hühner\, Ziegen\, Meerschweinchen und Hasen versorgen\, basteln und stärken uns bei einer Kleinigkeit und einem Getränk. \nFür Kinder ab 4 Jahre. \nTermin\nSamstag\, 11. April 2026 | 14:00 – 16:00 Uhr \nOrt\nHauptstraße 92\, 3381 Golling \nKosten     \n30\,- EURO | pro Kind inkl. Osternest \nAnmeldung\nMagdalena Schild | tierische.auszeit@gmail.com | 0664/ 30 21 104 | tierischeauszeit.at \nZum Kurs mitzubringen\nFestes Schuhwerk\, dem Wetter entsprechende Kleidung\, Trinkflasche
URL:https://www.kunterbunt-ybbs.at/event/tierisches-fruehlingsfest/
LOCATION:Tierische Auszeit\, Golling\, Niederösterreich\, 3381
CATEGORIES:Natur & Tiere
ATTACH;FMTTYPE=image/jpeg:https://www.kunterbunt-ybbs.at/wp-content/uploads/2024/01/6.jpg
ORGANIZER;CN="Magdalena Schild":MAILTO:tierische.auszeit@gmail.com
GEO:48.1956349;15.1772051
END:VEVENT
BEGIN:VEVENT
DTSTART;TZID=Europe/Berlin:20260328T140000
DTEND;TZID=Europe/Berlin:20260328T160000
DTSTAMP:20260421T114809
CREATED:20260128T191135Z
LAST-MODIFIED:20260128T191135Z
UID:10002120-1774706400-1774713600@www.kunterbunt-ybbs.at
SUMMARY:Tierisches Osterfest
DESCRIPTION:Kursleiterin\nMagdalena Schild | Fachkraft für Tiergestützte und Naturgestützte Pädagogik \nWas erwartet dich\nGemeinsam mit den beiden Ziegenbuben Billy und Zoro begeben wir uns auf die Suche nach den versteckten Osternestern im Wald. Anschließend werden wir die Tiere versorgen\, Eier färben und uns mit dem Inhalt der Osternester stärken. Auch eine kleine Bastelei darf natürlich nicht fehlen. \nFür Kinder ab 4 Jahre. \nTermin\nSamstag\, 28. März 2026 | 14:00 – 16:00 Uhr \nOrt\nHauptstraße 92\, 3381 Golling \nKosten     \n30\,- EURO | pro Kind \nAnmeldung\nMagdalena Schild | tierische.auszeit@gmail.com | 0664/ 30 21 104 | tierischeauszeit.at \nZum Kurs mitzubringen\nFestes Schuhwerk\, dem Wetter entsprechende Kleidung\, Trinkflasche
URL:https://www.kunterbunt-ybbs.at/event/tierisches-osterfest-2/
LOCATION:Tierische Auszeit\, Golling\, Niederösterreich\, 3381
CATEGORIES:Natur & Tiere
ATTACH;FMTTYPE=image/png:https://www.kunterbunt-ybbs.at/wp-content/uploads/2024/01/1.png
ORGANIZER;CN="Magdalena Schild":MAILTO:tierische.auszeit@gmail.com
GEO:48.1956349;15.1772051
END:VEVENT
BEGIN:VEVENT
DTSTART;TZID=Europe/Berlin:20260321T100000
DTEND;TZID=Europe/Berlin:20260321T113000
DTSTAMP:20260421T114809
CREATED:20260128T191045Z
LAST-MODIFIED:20260128T191045Z
UID:10002122-1774087200-1774092600@www.kunterbunt-ybbs.at
SUMMARY:Tierischer Zwergenvormittag
DESCRIPTION:Kursleiterin\nMagdalena Schild | Fachkraft für Tiergestützte und Naturgestützte Pädagogik \nWas erwartet dich\nGemeinsam mit meinen Tieren möchte ich auch jüngeren Kindern die Welt der Tiere näher bringen. Wir werden Tiere füttern\, streicheln\, beobachten\, bürsten und vieles mehr. Spiel\, Spaß und Kreativität stehen in dieser wertvollen Zeit am Programm. \nFür Babys ab 6 Monate. \nTermine\nSamstag\, 21. März\,17. April\, 23.Mai\, 13. Juni\, 04.Juli\, 14. August 2026 | 10:00 – 11:30 Uhr \nOrt\nHauptstraße 92\, 3381 Golling \nKosten     \n20\,- EURO pro Termin pro Kind (inkl. 1 Begleitperson) | 15\,- EURO Geschwisterkinder \nAnmeldung\nMagdalena Schild | tierische.auszeit@gmail.com | 0664/ 30 21 104 | tierischeauszeit.at \nZum Kurs mitzubringen\nFestes Schuhwerk\, dem Wetter entsprechende Kleidung\, Trinkflasche
URL:https://www.kunterbunt-ybbs.at/event/tierischer-zwergenvormittag-3/2026-03-21/
LOCATION:Tierische Auszeit\, Golling\, Niederösterreich\, 3381
CATEGORIES:Natur & Tiere
ATTACH;FMTTYPE=image/jpeg:https://www.kunterbunt-ybbs.at/wp-content/uploads/2024/01/4.jpg
ORGANIZER;CN="Magdalena Schild":MAILTO:tierische.auszeit@gmail.com
GEO:48.1956349;15.1772051
END:VEVENT
BEGIN:VEVENT
DTSTART;TZID=Europe/Berlin:20251011T140000
DTEND;TZID=Europe/Berlin:20251011T160000
DTSTAMP:20260421T114809
CREATED:20250804T060933Z
LAST-MODIFIED:20250921T085717Z
UID:10001918-1760191200-1760198400@www.kunterbunt-ybbs.at
SUMMARY:Tierisches Herbstfest
DESCRIPTION:AUSGEBUCHT!\nKursleiterin\nMagdalena Schild | Fachkraft für Tiergestützte und Naturgestützte Pädagogik \nWas erwartet dich\nGemeinsam mit meinen Tieren werden wir die Jahreszeit Herbst besser kennenlernen. Wir werden gemeinsam Kürbisse schnitzen und ein Windlicht basteln. Danach begeben wir uns mit den Ziegen Billy und Zoro auf eine kleine Wanderung in die Natur. Natürlich werden auch noch die restlichen Tiere besucht und versorgt. Diese Zeit ermöglicht auch tolle Erfahrungen und Erlebnisse mit der Gemeinschaft. Zum Abschluss gibt es noch eine kleine Stärkung.\nTermin\nSamstag\, 11. Oktober 2025 | 14:00 – 16:00 Uhr \nOrt\nHauptstraße 92\, 3381 Golling \nKosten     \n30\,- EURO pro Kind \nAnmeldung\nMagdalena Schild | 0664/ 30 21 104 | tierische.auszeit@gmail.com | www.tierischeauszeit.at \nZum Kurs mitzubringen\nFestes Schuhwerk\, dem Wetter entsprechende Kleidung\, Trinkflasche
URL:https://www.kunterbunt-ybbs.at/event/tierisches-herbstfest/
LOCATION:Tierische Auszeit\, Golling\, Niederösterreich\, 3381
CATEGORIES:Natur & Tiere
ATTACH;FMTTYPE=image/png:https://www.kunterbunt-ybbs.at/wp-content/uploads/2025/07/Bilder_web-6.png
ORGANIZER;CN="Magdalena Schild":MAILTO:tierische.auszeit@gmail.com
GEO:48.1956349;15.1772051
END:VEVENT
END:VCALENDAR