BEGIN:VCALENDAR
VERSION:2.0
PRODID:-//Kunterbunt - Familiennetzwerk Ybbs - ECPv6.15.20//NONSGML v1.0//EN
CALSCALE:GREGORIAN
METHOD:PUBLISH
X-WR-CALNAME:Kunterbunt - Familiennetzwerk Ybbs
X-ORIGINAL-URL:https://www.kunterbunt-ybbs.at
X-WR-CALDESC:Veranstaltungen für Kunterbunt - Familiennetzwerk Ybbs
REFRESH-INTERVAL;VALUE=DURATION:PT1H
X-Robots-Tag:noindex
X-PUBLISHED-TTL:PT1H
BEGIN:VTIMEZONE
TZID:Europe/Berlin
BEGIN:DAYLIGHT
TZOFFSETFROM:+0100
TZOFFSETTO:+0200
TZNAME:CEST
DTSTART:20250330T010000
END:DAYLIGHT
BEGIN:STANDARD
TZOFFSETFROM:+0200
TZOFFSETTO:+0100
TZNAME:CET
DTSTART:20251026T010000
END:STANDARD
BEGIN:DAYLIGHT
TZOFFSETFROM:+0100
TZOFFSETTO:+0200
TZNAME:CEST
DTSTART:20260329T010000
END:DAYLIGHT
BEGIN:STANDARD
TZOFFSETFROM:+0200
TZOFFSETTO:+0100
TZNAME:CET
DTSTART:20261025T010000
END:STANDARD
BEGIN:DAYLIGHT
TZOFFSETFROM:+0100
TZOFFSETTO:+0200
TZNAME:CEST
DTSTART:20270328T010000
END:DAYLIGHT
BEGIN:STANDARD
TZOFFSETFROM:+0200
TZOFFSETTO:+0100
TZNAME:CET
DTSTART:20271031T010000
END:STANDARD
END:VTIMEZONE
BEGIN:VEVENT
DTSTART;TZID=Europe/Berlin:20260309T160000
DTEND;TZID=Europe/Berlin:20260309T173000
DTSTAMP:20260421T141546
CREATED:20260126T192726Z
LAST-MODIFIED:20260223T123317Z
UID:10002263-1773072000-1773077400@www.kunterbunt-ybbs.at
SUMMARY:„Dance and Create“ - Tanzen und Malen
DESCRIPTION:Kursleiterin\nIngrid Wagner-Karner | Zert. Systemischer Kreativ-Coach\, Pädagogin \nWas erwartet dich\nFür Kinder von 6-11 Jahre \nIn den Einheiten „DANCE & CREATE“ lernst du als Tänzerin oder Tänzer einfache Choreografien kennen und gestaltest deine Bewegungserlebnisse  kreativ-künstlerisch. So entfaltest du deine kreative Ausdruckskraft.\nIm Mittelpunkt stehen dein Körperbewusstsein\, deine Koordination und dein ganz persönlicher künstlerisch-kreativer Ausdruck.  \nTanz bringt dich in Bewegung – Malen bringt deine inneren Bilder nach außen.\nDurch Farben\, Formen und spontane Gestaltung entsteht kreativer Ausdruck. \n„DANCE & CREATE“ fördert deine Kreativität auf mehreren Ebenen:\nDu erlebst Musik und Tanz als Ausdrucksmittel\, setzt Bewegungen in Farben um und findest neue Wege\, dich auszudrücken. \nBewegung aktiviert außerdem das Gehirn\, stärkt das Zusammenspiel beider Gehirnhälften\, verbessert die Konzentration und fördert die Ausschüttung von Glückshormonen wie Dopamin und Endorphinen. Tanz stärkt nicht nur die Muskulatur\, Motorik und das Gleichgewicht\, sondern auch die Fantasie und das Selbstvertrauen. \nTermine\nNEU: Montag\, 02. und 09. März 2026 | 16.00 – 17.30 Uhr \nOrt\nAlte Schule Gottsdorf\, Kirchenstraße 34\, 3680 Gottsdorf \nKosten    \n25\,- EURO pro Termin \nAnmeldung\nIngrid Wagner-Karner BEd | kreativebegegnungundbewegung@gmail.com | 0676/37 79 099 \nZum Kurs mitzubringen \nbequeme Kleidung\, rutschfeste Socken oder Gymnastikschuhe\, Trinkflasche
URL:https://www.kunterbunt-ybbs.at/event/dance-and-create-tanzen-und-malen-2/
LOCATION:Alte Schule Gottsdorf\, Kirchenstraße 34\, Gottsdorf\, Niederösterreich\, 3680\, Österreich
CATEGORIES:Sport & Entspannung
ATTACH;FMTTYPE=image/jpeg:https://www.kunterbunt-ybbs.at/wp-content/uploads/2023/07/Bilder_web-23.jpg
ORGANIZER;CN="Ingrid Wagner-Karner":MAILTO:ingrid.wagner-karner@gmx.at
GEO:48.1895304;15.1088814
X-APPLE-STRUCTURED-LOCATION;VALUE=URI;X-ADDRESS=Alte Schule Gottsdorf Kirchenstraße 34 Gottsdorf Niederösterreich 3680 Österreich;X-APPLE-RADIUS=500;X-TITLE=Kirchenstraße 34:geo:15.1088814,48.1895304
END:VEVENT
BEGIN:VEVENT
DTSTART;TZID=Europe/Berlin:20260302T160000
DTEND;TZID=Europe/Berlin:20260302T173000
DTSTAMP:20260421T141546
CREATED:20260126T192614Z
LAST-MODIFIED:20260223T123402Z
UID:10002262-1772467200-1772472600@www.kunterbunt-ybbs.at
SUMMARY:„Dance and Create“ - Tanzen und Malen
DESCRIPTION:Kursleiterin\nIngrid Wagner-Karner | Zert. Systemischer Kreativ-Coach\, Pädagogin \nWas erwartet dich\nFür Kinder von 6-11 Jahre \nIn den Einheiten „DANCE & CREATE“ lernst du als Tänzerin oder Tänzer einfache Choreografien kennen und gestaltest deine Bewegungserlebnisse  kreativ-künstlerisch. So entfaltest du deine kreative Ausdruckskraft.\nIm Mittelpunkt stehen dein Körperbewusstsein\, deine Koordination und dein ganz persönlicher künstlerisch-kreativer Ausdruck.  \nTanz bringt dich in Bewegung – Malen bringt deine inneren Bilder nach außen.\nDurch Farben\, Formen und spontane Gestaltung entsteht kreativer Ausdruck. \n„DANCE & CREATE“ fördert deine Kreativität auf mehreren Ebenen:\nDu erlebst Musik und Tanz als Ausdrucksmittel\, setzt Bewegungen in Farben um und findest neue Wege\, dich auszudrücken. \nBewegung aktiviert außerdem das Gehirn\, stärkt das Zusammenspiel beider Gehirnhälften\, verbessert die Konzentration und fördert die Ausschüttung von Glückshormonen wie Dopamin und Endorphinen. Tanz stärkt nicht nur die Muskulatur\, Motorik und das Gleichgewicht\, sondern auch die Fantasie und das Selbstvertrauen. \nTermine\nNEU: Montag\, 02. und 09. März 2026 | 16.00 – 17.30 Uhr \nOrt\nAlte Schule Gottsdorf\, Kirchenstraße 34\, 3680 Gottsdorf \nKosten    \n25\,- EURO pro Termin \nAnmeldung\nIngrid Wagner-Karner BEd | kreativebegegnungundbewegung@gmail.com | 0676/37 79 099 \nZum Kurs mitzubringen \nbequeme Kleidung\, rutschfeste Socken oder Gymnastikschuhe\, Trinkflasche
URL:https://www.kunterbunt-ybbs.at/event/dance-and-create-tanzen-und-malen/
LOCATION:Alte Schule Gottsdorf\, Kirchenstraße 34\, Gottsdorf\, Niederösterreich\, 3680\, Österreich
CATEGORIES:Sport & Entspannung
ATTACH;FMTTYPE=image/jpeg:https://www.kunterbunt-ybbs.at/wp-content/uploads/2023/07/Bilder_web-23.jpg
ORGANIZER;CN="Ingrid Wagner-Karner":MAILTO:ingrid.wagner-karner@gmx.at
GEO:48.1895304;15.1088814
X-APPLE-STRUCTURED-LOCATION;VALUE=URI;X-ADDRESS=Alte Schule Gottsdorf Kirchenstraße 34 Gottsdorf Niederösterreich 3680 Österreich;X-APPLE-RADIUS=500;X-TITLE=Kirchenstraße 34:geo:15.1088814,48.1895304
END:VEVENT
END:VCALENDAR