BEGIN:VCALENDAR
VERSION:2.0
PRODID:-//Kunterbunt - Familiennetzwerk Ybbs - ECPv6.15.20//NONSGML v1.0//EN
CALSCALE:GREGORIAN
METHOD:PUBLISH
X-WR-CALNAME:Kunterbunt - Familiennetzwerk Ybbs
X-ORIGINAL-URL:https://www.kunterbunt-ybbs.at
X-WR-CALDESC:Veranstaltungen für Kunterbunt - Familiennetzwerk Ybbs
REFRESH-INTERVAL;VALUE=DURATION:PT1H
X-Robots-Tag:noindex
X-PUBLISHED-TTL:PT1H
BEGIN:VTIMEZONE
TZID:Europe/Berlin
BEGIN:DAYLIGHT
TZOFFSETFROM:+0100
TZOFFSETTO:+0200
TZNAME:CEST
DTSTART:20250330T010000
END:DAYLIGHT
BEGIN:STANDARD
TZOFFSETFROM:+0200
TZOFFSETTO:+0100
TZNAME:CET
DTSTART:20251026T010000
END:STANDARD
BEGIN:DAYLIGHT
TZOFFSETFROM:+0100
TZOFFSETTO:+0200
TZNAME:CEST
DTSTART:20260329T010000
END:DAYLIGHT
BEGIN:STANDARD
TZOFFSETFROM:+0200
TZOFFSETTO:+0100
TZNAME:CET
DTSTART:20261025T010000
END:STANDARD
BEGIN:DAYLIGHT
TZOFFSETFROM:+0100
TZOFFSETTO:+0200
TZNAME:CEST
DTSTART:20270328T010000
END:DAYLIGHT
BEGIN:STANDARD
TZOFFSETFROM:+0200
TZOFFSETTO:+0100
TZNAME:CET
DTSTART:20271031T010000
END:STANDARD
END:VTIMEZONE
BEGIN:VEVENT
DTSTART;TZID=Europe/Berlin:20260424T140000
DTEND;TZID=Europe/Berlin:20260424T170000
DTSTAMP:20260421T115309
CREATED:20260128T184740Z
LAST-MODIFIED:20260420T072538Z
UID:10002272-1777039200-1777050000@www.kunterbunt-ybbs.at
SUMMARY:Mini-Fotoshootings für die ganze Familie
DESCRIPTION:Fotografin\nSabine Froschauer | foto-sabine.at \nWas erwartet dich\nHallo\, ich bin Sabine\, Familienfotografin aus Mitterkirchen.\nAm Freitag\, 24. April 2026 biete ich von 14:00 – 17:00 Uhr Frühlings-Mini-Shootings an\, perfekt für Kinder und Familien! Ein Shooting dauert nur 15 Minuten und einer Aufnahmegebühr von nur 15 €. Ganz unkompliziert\,\nentspannt und mit viel Freude. Nach dem Shooting bekommt ihr einen persönlichen Code\, mit dem ihr eure Fotos online ansehen und direkt bestellen könnt. Keine Mindestbestellmenge.\nWeitere Infos findet ihr hier: https://www.foto-sabine.at/seite-Spielgruppe/ \nTermin\nFreitag 24. April 2026 | 14:00 – 17:00 Uhr\nDerzeit noch freie Termin: 14:00 | 14:15 | 16:30 | 16:45 Uhr \nOrt\nPfarrzentrum Ybbs/Donau\, Peter-Rosegger-Promenade 5\, 3370 Ybbs/Donau \nKosten\n15\,- EURO Aufnahmegebühr. Preise der Fotos ab 5\,- (10x15cm) je nach Größe und Ausarbeitung. Keine Mindestbestellmenge! \nAnmeldung\nSabine Froschauer | info@foto-sabine.at | 0664/38 68 168 | foto-sabine.at
URL:https://www.kunterbunt-ybbs.at/event/mini-fotoshootings-fuer-die-ganze-familie/
LOCATION:Pfarrzentrum Ybbs/Donau\, Peter Rosegger Promenade 5\, Ybbs an der Donau\, Niederösterreich\, 3370\, Österreich
CATEGORIES:Musik & Kreativität
ATTACH;FMTTYPE=image/jpeg:https://www.kunterbunt-ybbs.at/wp-content/uploads/2025/01/Bilder_web-77.jpg
ORGANIZER;CN="Fotografin Sabine":MAILTO:info@foto-sabine.at
GEO:48.1795792;15.0829745
X-APPLE-STRUCTURED-LOCATION;VALUE=URI;X-ADDRESS=Pfarrzentrum Ybbs/Donau Peter Rosegger Promenade 5 Ybbs an der Donau Niederösterreich 3370 Österreich;X-APPLE-RADIUS=500;X-TITLE=Peter Rosegger Promenade 5:geo:15.0829745,48.1795792
END:VEVENT
END:VCALENDAR