BEGIN:VCALENDAR
VERSION:2.0
PRODID:-//Kunterbunt - Familiennetzwerk Ybbs - ECPv6.15.20//NONSGML v1.0//EN
CALSCALE:GREGORIAN
METHOD:PUBLISH
X-ORIGINAL-URL:https://www.kunterbunt-ybbs.at
X-WR-CALDESC:Veranstaltungen für Kunterbunt - Familiennetzwerk Ybbs
REFRESH-INTERVAL;VALUE=DURATION:PT1H
X-Robots-Tag:noindex
X-PUBLISHED-TTL:PT1H
BEGIN:VTIMEZONE
TZID:Europe/Berlin
BEGIN:DAYLIGHT
TZOFFSETFROM:+0100
TZOFFSETTO:+0200
TZNAME:CEST
DTSTART:20250330T010000
END:DAYLIGHT
BEGIN:STANDARD
TZOFFSETFROM:+0200
TZOFFSETTO:+0100
TZNAME:CET
DTSTART:20251026T010000
END:STANDARD
BEGIN:DAYLIGHT
TZOFFSETFROM:+0100
TZOFFSETTO:+0200
TZNAME:CEST
DTSTART:20260329T010000
END:DAYLIGHT
BEGIN:STANDARD
TZOFFSETFROM:+0200
TZOFFSETTO:+0100
TZNAME:CET
DTSTART:20261025T010000
END:STANDARD
BEGIN:DAYLIGHT
TZOFFSETFROM:+0100
TZOFFSETTO:+0200
TZNAME:CEST
DTSTART:20270328T010000
END:DAYLIGHT
BEGIN:STANDARD
TZOFFSETFROM:+0200
TZOFFSETTO:+0100
TZNAME:CET
DTSTART:20271031T010000
END:STANDARD
END:VTIMEZONE
BEGIN:VEVENT
DTSTART;TZID=Europe/Berlin:20260319T183000
DTEND;TZID=Europe/Berlin:20260319T200000
DTSTAMP:20260421T125951
CREATED:20260120T090945Z
LAST-MODIFIED:20260128T182230Z
UID:10002075-1773945000-1773950400@www.kunterbunt-ybbs.at
SUMMARY:Eltern.Tisch: Kinder stark machen
DESCRIPTION:Kursleiterin\nDaniela Schütz | eltern.tisch Moderatorin \nWas erwartet dich\nBeim eltern.tisch geht es um einen gemeinsamen Austausch zum Thema „Kinder stark machen“\, bei dem wir neue Ideen und Anregungen von anderen Eltern erhalten. Mittels einem kleinen Input von der Moderatorin steigen wir gemeinsam ins Thema ein und erzählen uns gegenseitig unsere Erfahrungen\, Tipps und Tricks im Alltag. Geeignet für Eltern mit Kinder unterschiedlichen Alters.\nEine gemütliche Gesprächsrunde unter Eltern – einfach mitmachen und neue Ideen mit nach Hause nehmen! \nTermin\nDonnerstag\, 19. März 2026 | 18:30 – 20:00 Uhr \nOrt\nPfarrzentrum Ybbs\, Peter-Rosegger-Promenade 5\, 3370 Ybbs/Donau \nKosten    \nkostenlos \nAnmeldung bis MO\,16.03.:\nBitte aktiviere JavaScript in deinem Browser\, um dieses Formular fertigzustellen.Bitte aktiviere JavaScript in deinem Browser\, um dieses Formular fertigzustellen.		\n			Layout Geschlecht Veranstaltung-URL\n			\n		\n		Wenn Sie mehrere Personen zum selben Kurs anmelden möchten\, füllen Sie dieses Formular nacheinander aus.  Geschlecht *WeiblichMännlichName *E-Mail-Adresse *Ihre Telefonnummer *Sind Sie Kunterbunt Mitglied? *JaNeinAnmerkungAbsenden
URL:https://www.kunterbunt-ybbs.at/event/eltern-tisch-kinder-stark-machen/
LOCATION:Pfarrzentrum Ybbs/Donau\, Peter Rosegger Promenade 5\, Ybbs an der Donau\, Niederösterreich\, 3370\, Österreich
CATEGORIES:Persönlichkeitsentwicklung
ATTACH;FMTTYPE=image/jpeg:https://www.kunterbunt-ybbs.at/wp-content/uploads/2025/01/Bilder_web-73.jpg
ORGANIZER;CN="Kunterbunt Ybbs":MAILTO:kunterbunt.ybbs@gmail.com
GEO:48.1795792;15.0829745
X-APPLE-STRUCTURED-LOCATION;VALUE=URI;X-ADDRESS=Pfarrzentrum Ybbs/Donau Peter Rosegger Promenade 5 Ybbs an der Donau Niederösterreich 3370 Österreich;X-APPLE-RADIUS=500;X-TITLE=Peter Rosegger Promenade 5:geo:15.0829745,48.1795792
END:VEVENT
END:VCALENDAR