BEGIN:VCALENDAR
VERSION:2.0
PRODID:-//Kunterbunt - Familiennetzwerk Ybbs - ECPv6.15.20//NONSGML v1.0//EN
CALSCALE:GREGORIAN
METHOD:PUBLISH
X-WR-CALNAME:Kunterbunt - Familiennetzwerk Ybbs
X-ORIGINAL-URL:https://www.kunterbunt-ybbs.at
X-WR-CALDESC:Veranstaltungen für Kunterbunt - Familiennetzwerk Ybbs
REFRESH-INTERVAL;VALUE=DURATION:PT1H
X-Robots-Tag:noindex
X-PUBLISHED-TTL:PT1H
BEGIN:VTIMEZONE
TZID:Europe/Berlin
BEGIN:DAYLIGHT
TZOFFSETFROM:+0100
TZOFFSETTO:+0200
TZNAME:CEST
DTSTART:20250330T010000
END:DAYLIGHT
BEGIN:STANDARD
TZOFFSETFROM:+0200
TZOFFSETTO:+0100
TZNAME:CET
DTSTART:20251026T010000
END:STANDARD
BEGIN:DAYLIGHT
TZOFFSETFROM:+0100
TZOFFSETTO:+0200
TZNAME:CEST
DTSTART:20260329T010000
END:DAYLIGHT
BEGIN:STANDARD
TZOFFSETFROM:+0200
TZOFFSETTO:+0100
TZNAME:CET
DTSTART:20261025T010000
END:STANDARD
BEGIN:DAYLIGHT
TZOFFSETFROM:+0100
TZOFFSETTO:+0200
TZNAME:CEST
DTSTART:20270328T010000
END:DAYLIGHT
BEGIN:STANDARD
TZOFFSETFROM:+0200
TZOFFSETTO:+0100
TZNAME:CET
DTSTART:20271031T010000
END:STANDARD
END:VTIMEZONE
BEGIN:VEVENT
DTSTART;TZID=Europe/Berlin:20260529T143000
DTEND;TZID=Europe/Berlin:20260529T154500
DTSTAMP:20260421T130727
CREATED:20260119T174853Z
LAST-MODIFIED:20260127T191111Z
UID:10002050-1780065000-1780069500@www.kunterbunt-ybbs.at
SUMMARY:Bewegungstreff
DESCRIPTION:Die Kursleiterin\nVerena Höbinger | Ballschule Trainerin \nWas erwartet dich\nWir erkunden den abwechslungsreichen Parcours\, bewegen uns gemeinsam mit unserer Begleitung zu lustiger Musik oder haben Spaß bei gemeinsamen Bewegungsspielen. Für Kinder von 3-6 Jahren mit Begleitung. \nTermine\nFreitag\, 27. März\, 17. April\, 29. Mai 2026 | jeweils 14:30 – 15:45 Uhr \nOrt\nTurnsaal VS Ybbs\, Professor-Wirtinger-Gasse 1\, 3370 Ybbs/Donau \nKosten   \n8\,- EURO pro Termin | 5\,- EURO für Kunterbunt-Mitglieder \nKontakt\nVerena Höbinger | 0650/73 57 520 | kunterbunt.ybbs@gmail.com \nAnmeldung bis 2 Tage vor Kursstart\nBitte aktiviere JavaScript in deinem Browser\, um dieses Formular fertigzustellen.Bitte aktiviere JavaScript in deinem Browser\, um dieses Formular fertigzustellen.		\n			Mitglied? Kind Kunterbunt\n			\n		\n		Wenn Sie mehrere Kinder zum selben Kurs anmelden möchten\, füllen Sie dieses Formular nacheinander aus.  Name des Erziehungsberechtigten *E-Mail-Adresse *Ihre Telefonnummer *Geschlecht Ihres Kindes *WeiblichMännlichName Ihres Kindes *Alter Ihres Kindes *Sind Sie Kunterbunt Mitglied? *JaNeinDas sollte Kunterbunt über mein Kind wissen?Absenden
URL:https://www.kunterbunt-ybbs.at/event/bewegungstreff-2/2026-05-29/
LOCATION:Turnsaal VS Ybbs\, Professor-Wirtinger-Gasse 1\, Ybbs/Donau\, Niederösterreich\, 3370\, Österreich
CATEGORIES:Sport & Entspannung,Vereinsangebot
ATTACH;FMTTYPE=image/jpeg:https://www.kunterbunt-ybbs.at/wp-content/uploads/2023/04/Bilder_web-5.jpg
ORGANIZER;CN="Kunterbunt Ybbs":MAILTO:kunterbunt.ybbs@gmail.com
GEO:48.1782723;15.0821277
X-APPLE-STRUCTURED-LOCATION;VALUE=URI;X-ADDRESS=Turnsaal VS Ybbs Professor-Wirtinger-Gasse 1 Ybbs/Donau Niederösterreich 3370 Österreich;X-APPLE-RADIUS=500;X-TITLE=Professor-Wirtinger-Gasse 1:geo:15.0821277,48.1782723
END:VEVENT
END:VCALENDAR