BEGIN:VCALENDAR
VERSION:2.0
PRODID:-//Kunterbunt - Familiennetzwerk Ybbs - ECPv6.15.20//NONSGML v1.0//EN
CALSCALE:GREGORIAN
METHOD:PUBLISH
X-WR-CALNAME:Kunterbunt - Familiennetzwerk Ybbs
X-ORIGINAL-URL:https://www.kunterbunt-ybbs.at
X-WR-CALDESC:Veranstaltungen für Kunterbunt - Familiennetzwerk Ybbs
REFRESH-INTERVAL;VALUE=DURATION:PT1H
X-Robots-Tag:noindex
X-PUBLISHED-TTL:PT1H
BEGIN:VTIMEZONE
TZID:Europe/Berlin
BEGIN:DAYLIGHT
TZOFFSETFROM:+0100
TZOFFSETTO:+0200
TZNAME:CEST
DTSTART:20250330T010000
END:DAYLIGHT
BEGIN:STANDARD
TZOFFSETFROM:+0200
TZOFFSETTO:+0100
TZNAME:CET
DTSTART:20251026T010000
END:STANDARD
BEGIN:DAYLIGHT
TZOFFSETFROM:+0100
TZOFFSETTO:+0200
TZNAME:CEST
DTSTART:20260329T010000
END:DAYLIGHT
BEGIN:STANDARD
TZOFFSETFROM:+0200
TZOFFSETTO:+0100
TZNAME:CET
DTSTART:20261025T010000
END:STANDARD
BEGIN:DAYLIGHT
TZOFFSETFROM:+0100
TZOFFSETTO:+0200
TZNAME:CEST
DTSTART:20270328T010000
END:DAYLIGHT
BEGIN:STANDARD
TZOFFSETFROM:+0200
TZOFFSETTO:+0100
TZNAME:CET
DTSTART:20271031T010000
END:STANDARD
END:VTIMEZONE
BEGIN:VEVENT
DTSTART;TZID=Europe/Berlin:20260417T143000
DTEND;TZID=Europe/Berlin:20260417T154500
DTSTAMP:20260421T143659
CREATED:20260119T174853Z
LAST-MODIFIED:20260127T191111Z
UID:10002049-1776436200-1776440700@www.kunterbunt-ybbs.at
SUMMARY:Bewegungstreff
DESCRIPTION:Die Kursleiterin\nVerena Höbinger | Ballschule Trainerin \nWas erwartet dich\nWir erkunden den abwechslungsreichen Parcours\, bewegen uns gemeinsam mit unserer Begleitung zu lustiger Musik oder haben Spaß bei gemeinsamen Bewegungsspielen. Für Kinder von 3-6 Jahren mit Begleitung. \nTermine\nFreitag\, 27. März\, 17. April\, 29. Mai 2026 | jeweils 14:30 – 15:45 Uhr \nOrt\nTurnsaal VS Ybbs\, Professor-Wirtinger-Gasse 1\, 3370 Ybbs/Donau \nKosten   \n8\,- EURO pro Termin | 5\,- EURO für Kunterbunt-Mitglieder \nKontakt\nVerena Höbinger | 0650/73 57 520 | kunterbunt.ybbs@gmail.com \nAnmeldung bis 2 Tage vor Kursstart\nBitte aktiviere JavaScript in deinem Browser\, um dieses Formular fertigzustellen.Bitte aktiviere JavaScript in deinem Browser\, um dieses Formular fertigzustellen.		\n			Erziehungsberechtigten über Ihres\n			\n		\n		Wenn Sie mehrere Kinder zum selben Kurs anmelden möchten\, füllen Sie dieses Formular nacheinander aus.  Name des Erziehungsberechtigten *E-Mail-Adresse *Ihre Telefonnummer *Geschlecht Ihres Kindes *WeiblichMännlichName Ihres Kindes *Alter Ihres Kindes *Sind Sie Kunterbunt Mitglied? *JaNeinDas sollte Kunterbunt über mein Kind wissen?Absenden
URL:https://www.kunterbunt-ybbs.at/event/bewegungstreff-2/2026-04-17/
LOCATION:Turnsaal VS Ybbs\, Professor-Wirtinger-Gasse 1\, Ybbs/Donau\, Niederösterreich\, 3370\, Österreich
CATEGORIES:Sport & Entspannung,Vereinsangebot
ATTACH;FMTTYPE=image/jpeg:https://www.kunterbunt-ybbs.at/wp-content/uploads/2023/04/Bilder_web-5.jpg
ORGANIZER;CN="Kunterbunt Ybbs":MAILTO:kunterbunt.ybbs@gmail.com
GEO:48.1782723;15.0821277
X-APPLE-STRUCTURED-LOCATION;VALUE=URI;X-ADDRESS=Turnsaal VS Ybbs Professor-Wirtinger-Gasse 1 Ybbs/Donau Niederösterreich 3370 Österreich;X-APPLE-RADIUS=500;X-TITLE=Professor-Wirtinger-Gasse 1:geo:15.0821277,48.1782723
END:VEVENT
BEGIN:VEVENT
DTSTART;TZID=Europe/Berlin:20260414T160000
DTEND;TZID=Europe/Berlin:20260414T170000
DTSTAMP:20260421T143659
CREATED:20260119T174302Z
LAST-MODIFIED:20260301T070924Z
UID:10002042-1776182400-1776186000@www.kunterbunt-ybbs.at
SUMMARY:Activity - Bewegen\, Tanzen\, Spielen
DESCRIPTION:Die Kursleiterin\nStefanie Steinberger | ÜL Tanzpädagogik/Sportunion \nWas erwartet dich\nActivity – Bewegen\, Spielen\, Tanzen! In diesem Kurs entdecken Kinder spielerisch die Welt der Bewegung! Mit Musik\, Spielen\, Tanz und einfachen Bewegungsübungen fördern wir Motorik\, Rhythmusgefühl und Fantasie. Im Mittelpunkt stehen der Spaß an der Bewegung und das gemeinsame erleben in der Gruppe – ganz ohne Leistungsdruck. Ideal für kleine Wirbelwinde\, die sich gerne austoben und Neues ausprobieren möchten! \nFür Kinder ab 3 – 4\,9 Jahren in Begleitung einer Bezugsperson zur Aufsicht. \nTermin\nDienstag\, 14./21. April und 5./12. Mai 2026 | 16:00 – 17:00 Uhr \nOrt\nPfarrzentrum Ybbs\, Peter-Rosegger-Promenade 5\, 3370 Ybbs/Donau \nKosten   \n28\,- EURO | 4 Einheiten \nKontakt\nFür Fragen: Stefanie Steinberger | 0676/9579836 \n 
URL:https://www.kunterbunt-ybbs.at/event/activity-bewegen-tanzen-spielen-2/
LOCATION:Pfarrzentrum Ybbs/Donau\, Peter Rosegger Promenade 5\, Ybbs an der Donau\, Niederösterreich\, 3370\, Österreich
CATEGORIES:Sport & Entspannung
ATTACH;FMTTYPE=image/jpeg:https://www.kunterbunt-ybbs.at/wp-content/uploads/2024/06/Bilder_web-97.jpg
ORGANIZER;CN="Kunterbunt Ybbs":MAILTO:kunterbunt.ybbs@gmail.com
GEO:48.1795792;15.0829745
X-APPLE-STRUCTURED-LOCATION;VALUE=URI;X-ADDRESS=Pfarrzentrum Ybbs/Donau Peter Rosegger Promenade 5 Ybbs an der Donau Niederösterreich 3370 Österreich;X-APPLE-RADIUS=500;X-TITLE=Peter Rosegger Promenade 5:geo:15.0829745,48.1795792
END:VEVENT
BEGIN:VEVENT
DTSTART;TZID=Europe/Berlin:20260327T143000
DTEND;TZID=Europe/Berlin:20260327T154500
DTSTAMP:20260421T143659
CREATED:20260119T174853Z
LAST-MODIFIED:20260127T191111Z
UID:10002048-1774621800-1774626300@www.kunterbunt-ybbs.at
SUMMARY:Bewegungstreff
DESCRIPTION:Die Kursleiterin\nVerena Höbinger | Ballschule Trainerin \nWas erwartet dich\nWir erkunden den abwechslungsreichen Parcours\, bewegen uns gemeinsam mit unserer Begleitung zu lustiger Musik oder haben Spaß bei gemeinsamen Bewegungsspielen. Für Kinder von 3-6 Jahren mit Begleitung. \nTermine\nFreitag\, 27. März\, 17. April\, 29. Mai 2026 | jeweils 14:30 – 15:45 Uhr \nOrt\nTurnsaal VS Ybbs\, Professor-Wirtinger-Gasse 1\, 3370 Ybbs/Donau \nKosten   \n8\,- EURO pro Termin | 5\,- EURO für Kunterbunt-Mitglieder \nKontakt\nVerena Höbinger | 0650/73 57 520 | kunterbunt.ybbs@gmail.com \nAnmeldung bis 2 Tage vor Kursstart\nBitte aktiviere JavaScript in deinem Browser\, um dieses Formular fertigzustellen.Bitte aktiviere JavaScript in deinem Browser\, um dieses Formular fertigzustellen.		\n			Geschlecht Name Ihres\n			\n		\n		Wenn Sie mehrere Kinder zum selben Kurs anmelden möchten\, füllen Sie dieses Formular nacheinander aus.  Name des Erziehungsberechtigten *E-Mail-Adresse *Ihre Telefonnummer *Geschlecht Ihres Kindes *WeiblichMännlichName Ihres Kindes *Alter Ihres Kindes *Sind Sie Kunterbunt Mitglied? *JaNeinDas sollte Kunterbunt über mein Kind wissen?Absenden
URL:https://www.kunterbunt-ybbs.at/event/bewegungstreff-2/2026-03-27/
LOCATION:Turnsaal VS Ybbs\, Professor-Wirtinger-Gasse 1\, Ybbs/Donau\, Niederösterreich\, 3370\, Österreich
CATEGORIES:Sport & Entspannung,Vereinsangebot
ATTACH;FMTTYPE=image/jpeg:https://www.kunterbunt-ybbs.at/wp-content/uploads/2023/04/Bilder_web-5.jpg
ORGANIZER;CN="Kunterbunt Ybbs":MAILTO:kunterbunt.ybbs@gmail.com
GEO:48.1782723;15.0821277
X-APPLE-STRUCTURED-LOCATION;VALUE=URI;X-ADDRESS=Turnsaal VS Ybbs Professor-Wirtinger-Gasse 1 Ybbs/Donau Niederösterreich 3370 Österreich;X-APPLE-RADIUS=500;X-TITLE=Professor-Wirtinger-Gasse 1:geo:15.0821277,48.1782723
END:VEVENT
BEGIN:VEVENT
DTSTART;TZID=Europe/Berlin:20260313T160000
DTEND;TZID=Europe/Berlin:20260313T170000
DTSTAMP:20260421T143659
CREATED:20260119T174557Z
LAST-MODIFIED:20260210T102411Z
UID:10002043-1773417600-1773421200@www.kunterbunt-ybbs.at
SUMMARY:Zwergerlturnen
DESCRIPTION:Die Kursleiterinnen\nStefanie Steinberger | ÜL Sportunion und Petra Sandler | Ballschule-Trainerin \nWas erwartet dich\nIn dieser Stunde starten wir mit einem gemeinsamen Begrüßungslied und verschieden Bewegungsreimen und Liedern. Anschließend bauen wir gemeinsam einen Bewegungsparcours mit unterschiedlichen Stationen zum Springen\, Rutschen\, Klettern\, Schwingen und noch mehr auf. Die Kinder können ganz frei gemeinsam mit ihrer Begleitperson diese erkunden\, sich austoben und ganz nebenbei ihre motorischen Fähigkeiten trainieren.\nFür Kinder von 1\,5 – 2\,9 Jahre \nTermin\nFreitag\, 13. /20./ 27. März und 10./17./24. April 2026 | 16:00 – 17:00 Uhr \nOrt\nTurnsaal VS Ybbs\, Professor-Wirtinger-Gasse 1\, 3370 Ybbs/Donau \nKosten   \n42\,- EURO | 6 Einheiten \nKontakt\nfür Fragen: Stefanie Steinberger | 0676/9579836 \n\n 
URL:https://www.kunterbunt-ybbs.at/event/zwergerlturnen-3/
LOCATION:Turnsaal VS Ybbs\, Professor-Wirtinger-Gasse 1\, Ybbs/Donau\, Niederösterreich\, 3370\, Österreich
CATEGORIES:Sport & Entspannung,Vereinsangebot
ATTACH;FMTTYPE=image/jpeg:https://www.kunterbunt-ybbs.at/wp-content/uploads/2024/07/Bilder_web-46.jpg
ORGANIZER;CN="Kunterbunt Ybbs":MAILTO:kunterbunt.ybbs@gmail.com
GEO:48.1782723;15.0821277
X-APPLE-STRUCTURED-LOCATION;VALUE=URI;X-ADDRESS=Turnsaal VS Ybbs Professor-Wirtinger-Gasse 1 Ybbs/Donau Niederösterreich 3370 Österreich;X-APPLE-RADIUS=500;X-TITLE=Professor-Wirtinger-Gasse 1:geo:15.0821277,48.1782723
END:VEVENT
BEGIN:VEVENT
DTSTART;TZID=Europe/Berlin:20260303T160000
DTEND;TZID=Europe/Berlin:20260303T170000
DTSTAMP:20260421T143659
CREATED:20260119T174230Z
LAST-MODIFIED:20260224T174029Z
UID:10002041-1772553600-1772557200@www.kunterbunt-ybbs.at
SUMMARY:Activity - Bewegen\, Tanzen\, Spielen
DESCRIPTION:Die Kursleiterin\nStefanie Steinberger | ÜL Tanzpädagogik/Sportunion \nWas erwartet dich\nActivity – Bewegen\, Spielen\, Tanzen! In diesem Kurs entdecken Kinder spielerisch die Welt der Bewegung! Mit Musik\, Spielen\, Tanz und einfachen Bewegungsübungen fördern wir Motorik\, Rhythmusgefühl und Fantasie. Im Mittelpunkt stehen der Spaß an der Bewegung und das gemeinsame erleben in der Gruppe – ganz ohne Leistungsdruck. Ideal für kleine Wirbelwinde\, die sich gerne austoben und Neues ausprobieren möchten! \nFür Kinder ab 3 – 4\,9 Jahren in Begleitung einer Bezugsperson zur Aufsicht. \nTermin\nDienstag\, 03. bis 24. März 2026 | 16:00 – 17:00 Uhr \nOrt\nPfarrzentrum Ybbs\, Peter-Rosegger-Promenade 5\, 3370 Ybbs/Donau \nKosten   \n28\,- EURO | 4 Einheiten \nKontakt\nFür Fragen: Stefanie Steinberger | 0676/9579836
URL:https://www.kunterbunt-ybbs.at/event/activity-bewegen-tanzen-spielen/
LOCATION:Pfarrzentrum Ybbs/Donau\, Peter Rosegger Promenade 5\, Ybbs an der Donau\, Niederösterreich\, 3370\, Österreich
CATEGORIES:Sport & Entspannung
ATTACH;FMTTYPE=image/jpeg:https://www.kunterbunt-ybbs.at/wp-content/uploads/2024/06/Bilder_web-97.jpg
ORGANIZER;CN="Kunterbunt Ybbs":MAILTO:kunterbunt.ybbs@gmail.com
GEO:48.1795792;15.0829745
X-APPLE-STRUCTURED-LOCATION;VALUE=URI;X-ADDRESS=Pfarrzentrum Ybbs/Donau Peter Rosegger Promenade 5 Ybbs an der Donau Niederösterreich 3370 Österreich;X-APPLE-RADIUS=500;X-TITLE=Peter Rosegger Promenade 5:geo:15.0829745,48.1795792
END:VEVENT
BEGIN:VEVENT
DTSTART;TZID=Europe/Berlin:20260227T143000
DTEND;TZID=Europe/Berlin:20260227T154500
DTSTAMP:20260421T143659
CREATED:20260223T141410Z
LAST-MODIFIED:20260223T141410Z
UID:10002274-1772202600-1772207100@www.kunterbunt-ybbs.at
SUMMARY:Bewegungstreff
DESCRIPTION:Die Kursleiterin\nVerena Höbinger | Ballschule Trainerin \nWas erwartet dich\nWir erkunden den abwechslungsreichen Parcours\, bewegen uns gemeinsam mit unserer Begleitung zu lustiger Musik oder haben Spaß bei gemeinsamen Bewegungsspielen. Für Kinder von 3-6 Jahren mit Begleitung. \nTermine\nFreitag\, 27. Februar\, 27. März\, 17. April\, 29. Mai 2026 | jeweils 14:30 – 15:45 Uhr \nOrt\nTurnsaal VS Ybbs\, Professor-Wirtinger-Gasse 1\, 3370 Ybbs/Donau \nKosten   \n8\,- EURO pro Termin | 5\,- EURO für Kunterbunt-Mitglieder \nKontakt\nVerena Höbinger | 0650/73 57 520 | kunterbunt.ybbs@gmail.com \nAnmeldung bis 2 Tage vor Kursstart\nBitte aktiviere JavaScript in deinem Browser\, um dieses Formular fertigzustellen.Bitte aktiviere JavaScript in deinem Browser\, um dieses Formular fertigzustellen.		\n			Kurs E-Mail-Adresse Kunterbunt\n			\n		\n		Wenn Sie mehrere Kinder zum selben Kurs anmelden möchten\, füllen Sie dieses Formular nacheinander aus.  Name des Erziehungsberechtigten *E-Mail-Adresse *Ihre Telefonnummer *Geschlecht Ihres Kindes *WeiblichMännlichName Ihres Kindes *Alter Ihres Kindes *Sind Sie Kunterbunt Mitglied? *JaNeinDas sollte Kunterbunt über mein Kind wissen?Absenden
URL:https://www.kunterbunt-ybbs.at/event/bewegungstreff/
LOCATION:Turnsaal VS Ybbs\, Professor-Wirtinger-Gasse 1\, Ybbs/Donau\, Niederösterreich\, 3370\, Österreich
CATEGORIES:Sport & Entspannung,Vereinsangebot
ATTACH;FMTTYPE=image/jpeg:https://www.kunterbunt-ybbs.at/wp-content/uploads/2023/04/Bilder_web-5.jpg
ORGANIZER;CN="Kunterbunt Ybbs":MAILTO:kunterbunt.ybbs@gmail.com
GEO:48.1782723;15.0821277
X-APPLE-STRUCTURED-LOCATION;VALUE=URI;X-ADDRESS=Turnsaal VS Ybbs Professor-Wirtinger-Gasse 1 Ybbs/Donau Niederösterreich 3370 Österreich;X-APPLE-RADIUS=500;X-TITLE=Professor-Wirtinger-Gasse 1:geo:15.0821277,48.1782723
END:VEVENT
END:VCALENDAR