BEGIN:VCALENDAR
VERSION:2.0
PRODID:-//Kunterbunt - Familiennetzwerk Ybbs - ECPv6.15.20//NONSGML v1.0//EN
CALSCALE:GREGORIAN
METHOD:PUBLISH
X-ORIGINAL-URL:https://www.kunterbunt-ybbs.at
X-WR-CALDESC:Veranstaltungen für Kunterbunt - Familiennetzwerk Ybbs
REFRESH-INTERVAL;VALUE=DURATION:PT1H
X-Robots-Tag:noindex
X-PUBLISHED-TTL:PT1H
BEGIN:VTIMEZONE
TZID:Europe/Berlin
BEGIN:DAYLIGHT
TZOFFSETFROM:+0100
TZOFFSETTO:+0200
TZNAME:CEST
DTSTART:20240331T010000
END:DAYLIGHT
BEGIN:STANDARD
TZOFFSETFROM:+0200
TZOFFSETTO:+0100
TZNAME:CET
DTSTART:20241027T010000
END:STANDARD
BEGIN:DAYLIGHT
TZOFFSETFROM:+0100
TZOFFSETTO:+0200
TZNAME:CEST
DTSTART:20250330T010000
END:DAYLIGHT
BEGIN:STANDARD
TZOFFSETFROM:+0200
TZOFFSETTO:+0100
TZNAME:CET
DTSTART:20251026T010000
END:STANDARD
BEGIN:DAYLIGHT
TZOFFSETFROM:+0100
TZOFFSETTO:+0200
TZNAME:CEST
DTSTART:20260329T010000
END:DAYLIGHT
BEGIN:STANDARD
TZOFFSETFROM:+0200
TZOFFSETTO:+0100
TZNAME:CET
DTSTART:20261025T010000
END:STANDARD
BEGIN:DAYLIGHT
TZOFFSETFROM:+0100
TZOFFSETTO:+0200
TZNAME:CEST
DTSTART:20270328T010000
END:DAYLIGHT
BEGIN:STANDARD
TZOFFSETFROM:+0200
TZOFFSETTO:+0100
TZNAME:CET
DTSTART:20271031T010000
END:STANDARD
END:VTIMEZONE
BEGIN:VEVENT
DTSTART;TZID=Europe/Berlin:20260416T190000
DTEND;TZID=Europe/Berlin:20260416T203000
DTSTAMP:20260422T134706
CREATED:20260124T092436Z
LAST-MODIFIED:20260127T182231Z
UID:10002092-1776366000-1776371400@www.kunterbunt-ybbs.at
SUMMARY:Aromavortrag - ätherische Öle für den Sommer
DESCRIPTION:Kursleiterin\nMaria Lahmer | Ärztlich geprüfte Betriebs- & Berufsaromatologin \nWas erwartet dich\nÄtherische Öle können im Sommer eine super Unterstützung sein. Für Hautregeneration bei Sonnenbrand oder Schürfwunden\, erfrischende Kopfmassagen\, sowie bei Völlegefühl im Verdauungstrakt. Natürliche Unterstützung für Sehnen und Bänder bei Wanderungen\, bei Insektenstichen oder als guter Duft für erholsamen und entspannten Schlaf. \nGemeinsam sprechen wir über die richtige Anwendung und die Einsatzgebiete dieser Naturessenzen.\nIch freu mich auf einen duftenden Abend mit dir! \nTermin\nDonnerstag\, 16. April 2026 | 19:00 – 20:30 Uhr \nOrt\nPfarrzentrum Ybbs\, Peter-Rosegger-Promenade 5\, 3370 Ybbs/Donau \nKosten    \n18\,- EURO inkl. Unterlagen\n(10€ für Kunden meines Teams – und die es werden wollen) \nAnmeldung:\nBis 15.04.: Maria Lahmer | aroma@maria-lahmer.at | 0680/14 17 266 | maria-lahmer.at \nZum Kurs mitzubringen\nStift für eigene Notizen
URL:https://www.kunterbunt-ybbs.at/event/aromavortrag-aetherische-oele-fuer-den-sommer/
LOCATION:Pfarrzentrum Ybbs/Donau\, Peter Rosegger Promenade 5\, Ybbs an der Donau\, Niederösterreich\, 3370\, Österreich
CATEGORIES:Gesundheit & Ernährung
ATTACH;FMTTYPE=image/jpeg:https://www.kunterbunt-ybbs.at/wp-content/uploads/2025/01/Aroma-SOMMER-Foto-1-scaled.jpg
ORGANIZER;CN="Maria Lahmer":MAILTO:aroma@maria-lahmer.at
GEO:48.1795792;15.0829745
X-APPLE-STRUCTURED-LOCATION;VALUE=URI;X-ADDRESS=Pfarrzentrum Ybbs/Donau Peter Rosegger Promenade 5 Ybbs an der Donau Niederösterreich 3370 Österreich;X-APPLE-RADIUS=500;X-TITLE=Peter Rosegger Promenade 5:geo:15.0829745,48.1795792
END:VEVENT
BEGIN:VEVENT
DTSTART;TZID=Europe/Berlin:20250827T090000
DTEND;TZID=Europe/Berlin:20250827T103000
DTSTAMP:20260422T134706
CREATED:20240411T063721Z
LAST-MODIFIED:20250513T184816Z
UID:10000625-1756285200-1756290600@www.kunterbunt-ybbs.at
SUMMARY:Eltern-Kind-Gruppe im Sommer: Kuh-Bauernhof
DESCRIPTION:AUSGEBUCHT – VIELEN DANK FÜR EURE ANMELDUNGEN \nFerienzeit ist Ausflugszeit: Die Eltern-Kind-Spielgruppe erkundet in den Sommerferien wieder die nähere Umgebung und trifft sich zu verschiedenen gemeinsamen Ausflügen am Bauernhof\, bei der Feuerwehr\, usw. Eltern und Großeltern sind herzlich eingeladen\, mit ihren Kindern oder Enkelkindern bis 6 Jahre einen schönen Vormittag in gemütlicher Runde zu verbringen. \nTermin\nMittwoch\, 27. August | 09:00 – 10:30  Uhr: Besuch beim Kuh-Bauernhof der Familie Heilos \nOrt\nFamilie Heilos | Donaudorfstraße 18\, 3370 Ybbs \nKosten pro Kind (ab 1 Jahr) inkl. Begleitperson \n8\,- EURO | 5\,- EURO für Kunterbunt-Mitglieder \nFragen an:\nkunterbunt.ybbs@gmail.com | Daniela Schütz | 0650/7152815 | Stefanie Steinberger | 0676/9579836 \nWeitere Termine der Sommerspielgruppe:
URL:https://www.kunterbunt-ybbs.at/event/eltern-kind-gruppe-im-sommer-kirche-2/
LOCATION:Familie Heilos\, Donaudorfstraße 18\, Ybbs\, 3370
CATEGORIES:Musik & Kreativität
ATTACH;FMTTYPE=image/jpeg:https://www.kunterbunt-ybbs.at/wp-content/uploads/2024/06/Bilder_web-97.jpg
ORGANIZER;CN="Kunterbunt Ybbs":MAILTO:kunterbunt.ybbs@gmail.com
GEO:48.1907369;15.0607658
X-APPLE-STRUCTURED-LOCATION;VALUE=URI;X-ADDRESS=Familie Heilos Donaudorfstraße 18 Ybbs 3370;X-APPLE-RADIUS=500;X-TITLE=Donaudorfstraße 18:geo:15.0607658,48.1907369
END:VEVENT
END:VCALENDAR