BEGIN:VCALENDAR
VERSION:2.0
PRODID:-//Kunterbunt - Familiennetzwerk Ybbs - ECPv6.15.20//NONSGML v1.0//EN
CALSCALE:GREGORIAN
METHOD:PUBLISH
X-WR-CALNAME:Kunterbunt - Familiennetzwerk Ybbs
X-ORIGINAL-URL:https://www.kunterbunt-ybbs.at
X-WR-CALDESC:Veranstaltungen für Kunterbunt - Familiennetzwerk Ybbs
REFRESH-INTERVAL;VALUE=DURATION:PT1H
X-Robots-Tag:noindex
X-PUBLISHED-TTL:PT1H
BEGIN:VTIMEZONE
TZID:Europe/Berlin
BEGIN:DAYLIGHT
TZOFFSETFROM:+0100
TZOFFSETTO:+0200
TZNAME:CEST
DTSTART:20250330T010000
END:DAYLIGHT
BEGIN:STANDARD
TZOFFSETFROM:+0200
TZOFFSETTO:+0100
TZNAME:CET
DTSTART:20251026T010000
END:STANDARD
BEGIN:DAYLIGHT
TZOFFSETFROM:+0100
TZOFFSETTO:+0200
TZNAME:CEST
DTSTART:20260329T010000
END:DAYLIGHT
BEGIN:STANDARD
TZOFFSETFROM:+0200
TZOFFSETTO:+0100
TZNAME:CET
DTSTART:20261025T010000
END:STANDARD
BEGIN:DAYLIGHT
TZOFFSETFROM:+0100
TZOFFSETTO:+0200
TZNAME:CEST
DTSTART:20270328T010000
END:DAYLIGHT
BEGIN:STANDARD
TZOFFSETFROM:+0200
TZOFFSETTO:+0100
TZNAME:CET
DTSTART:20271031T010000
END:STANDARD
END:VTIMEZONE
BEGIN:VEVENT
DTSTART;TZID=Europe/Berlin:20260320T183000
DTEND;TZID=Europe/Berlin:20260320T193000
DTSTAMP:20260421T171101
CREATED:20250729T173906Z
LAST-MODIFIED:20260212T192618Z
UID:10001465-1774031400-1774035000@www.kunterbunt-ybbs.at
SUMMARY:Klangreise
DESCRIPTION:Kursleiterin\nDagmar Kaliwoda | Musiktherapeutin \nWas erwartet dich\nKlangreise für Erwachsene – Klänge im Körper spüren und entspannen!\nDie Klangreise ist eine Meditationsform. Die Klänge bringen den Körper in eine tiefe Entspannung und aktivieren die Selbstheilungskräfte. Ich leite die Klangreise anhand einer Geschichte an. Die Klänge von verschiedenen Klanginstrumenten nehmen Sie (Monochord\, Koshi\, Klangschale\, Gong\, etc.) auf eine besondere Reise mit. Bringen Sie bitte eine Matte (Gymnastik-\, Yogamatte\, oder ähnliches) mit. Wenn Sie möchten\, können Sie auch gerne Decke (und Polster) mitnehmen\, um es besonders bequem zu haben.  \nTermin\nFreitag\, 20. März 2026 | 18:30 – 19:30 Uhr \nOrt\nPfarrzentrum Ybbs/Donau\, Peter-Rosegger-Promenade 5\, 3370 Ybbs/Donau \nKosten \n20\,- EURO | pro Person \nAnmeldung\nbis 16.02.: Dagmar Kaliwoda | info@lebensklaenge.at | 0650/35 31 570 | lebensklaenge.at
URL:https://www.kunterbunt-ybbs.at/event/klangreise-2/
LOCATION:Pfarrzentrum Ybbs/Donau\, Peter Rosegger Promenade 5\, Ybbs an der Donau\, Niederösterreich\, 3370\, Österreich
CATEGORIES:Sport & Entspannung
ATTACH;FMTTYPE=image/jpeg:https://www.kunterbunt-ybbs.at/wp-content/uploads/2025/01/Bilder_web-68.jpg
ORGANIZER;CN="Dagmar Kaliwoda%2C Msc":MAILTO:info@lebensklaenge.at
GEO:48.1795792;15.0829745
X-APPLE-STRUCTURED-LOCATION;VALUE=URI;X-ADDRESS=Pfarrzentrum Ybbs/Donau Peter Rosegger Promenade 5 Ybbs an der Donau Niederösterreich 3370 Österreich;X-APPLE-RADIUS=500;X-TITLE=Peter Rosegger Promenade 5:geo:15.0829745,48.1795792
END:VEVENT
END:VCALENDAR