BEGIN:VCALENDAR
VERSION:2.0
PRODID:-//Kunterbunt - Familiennetzwerk Ybbs - ECPv6.15.20//NONSGML v1.0//EN
CALSCALE:GREGORIAN
METHOD:PUBLISH
X-WR-CALNAME:Kunterbunt - Familiennetzwerk Ybbs
X-ORIGINAL-URL:https://www.kunterbunt-ybbs.at
X-WR-CALDESC:Veranstaltungen für Kunterbunt - Familiennetzwerk Ybbs
REFRESH-INTERVAL;VALUE=DURATION:PT1H
X-Robots-Tag:noindex
X-PUBLISHED-TTL:PT1H
BEGIN:VTIMEZONE
TZID:Europe/Berlin
BEGIN:DAYLIGHT
TZOFFSETFROM:+0100
TZOFFSETTO:+0200
TZNAME:CEST
DTSTART:20250330T010000
END:DAYLIGHT
BEGIN:STANDARD
TZOFFSETFROM:+0200
TZOFFSETTO:+0100
TZNAME:CET
DTSTART:20251026T010000
END:STANDARD
BEGIN:DAYLIGHT
TZOFFSETFROM:+0100
TZOFFSETTO:+0200
TZNAME:CEST
DTSTART:20260329T010000
END:DAYLIGHT
BEGIN:STANDARD
TZOFFSETFROM:+0200
TZOFFSETTO:+0100
TZNAME:CET
DTSTART:20261025T010000
END:STANDARD
BEGIN:DAYLIGHT
TZOFFSETFROM:+0100
TZOFFSETTO:+0200
TZNAME:CEST
DTSTART:20270328T010000
END:DAYLIGHT
BEGIN:STANDARD
TZOFFSETFROM:+0200
TZOFFSETTO:+0100
TZNAME:CET
DTSTART:20271031T010000
END:STANDARD
END:VTIMEZONE
BEGIN:VEVENT
DTSTART;TZID=Europe/Berlin:20260419T093000
DTEND;TZID=Europe/Berlin:20260419T113000
DTSTAMP:20260422T163833
CREATED:20260318T202343Z
LAST-MODIFIED:20260323T132713Z
UID:10002284-1776591000-1776598200@www.kunterbunt-ybbs.at
SUMMARY:Laufen gegen Krebs
DESCRIPTION:Veranstalter\nFamiliennetzwerk Kunterbunt und NÖ Frauenlauf \nWas erwartet dich\nMacht mit uns mit –  beim Charity Run: Laufen gegen Krebs!\nDie Spenden des Laufes gehen an den NÖ Krebshilfe – Soforthilfefonds und das Österreichisches Rotes Kreuz – Stammzellspende.\nIhr könnt live gemeinsam mit uns dabei sein am \nSonntag\, 19. April 2026 um 09:30 Uhr\nTREFFPUNKT: Donaulände Ybbs bei Stadthalle – Spielplatz \nWir werden eine 5 km Walking-Distanz und eine 5 km Lauf-Distanz anbieten.\nBei der Walking-Strecke könnt ihr auch super mit einem Kinderwagen oder Kinder mit Roller dabei sein. \nBei der Anmeldung kannst du auch gerne den TEAMNAMEN: „Kunterbunt Ybbs“ angeben.\nhttps://www.laufengegenkrebs.at/pages/anmelden.php \nSolltet ihr am 19. April verhindert sein\, dann könnt ihr auch gerne virtuell im Team „Kunterbunt Ybbs“ teilnehmen. Dazu einfach auch unter dem selben Link anmelden. Spontan Entschlossene können auch ohne Anmeldung mitmachen und wir leiten den Spendenbetrag an die Organisation weiter. \nWir freuen uns wenn wir mit dieser Aktion gemeinsam etwas Gutes tun und mit unserem Kunterbunt-Team möglichst viele Spenden ergehen bzw. erlaufen… 😉\nGerne auch an Freunde und Familien weitersagen 🙂
URL:https://www.kunterbunt-ybbs.at/event/laufen-gegen-krebs/
LOCATION:Donaulände\, Donaulände 2\, Ybbs an der Donau\, 3370\, Österreich
CATEGORIES:Veranstaltungen
ATTACH;FMTTYPE=image/jpeg:https://www.kunterbunt-ybbs.at/wp-content/uploads/2023/04/Bilder_web-2.jpg
ORGANIZER;CN="Kunterbunt Ybbs":MAILTO:kunterbunt.ybbs@gmail.com
GEO:48.1863993;15.0804395
X-APPLE-STRUCTURED-LOCATION;VALUE=URI;X-ADDRESS=Donaulände Donaulände 2 Ybbs an der Donau 3370 Österreich;X-APPLE-RADIUS=500;X-TITLE=Donaulände 2:geo:15.0804395,48.1863993
END:VEVENT
BEGIN:VEVENT
DTSTART;TZID=Europe/Berlin:20260419T093000
DTEND;TZID=Europe/Berlin:20260419T113000
DTSTAMP:20260422T163833
CREATED:20260119T175032Z
LAST-MODIFIED:20260323T132413Z
UID:10002051-1776591000-1776598200@www.kunterbunt-ybbs.at
SUMMARY:Laufen gegen Krebs
DESCRIPTION:Veranstalter\nFamiliennetzwerk Kunterbunt und NÖ Frauenlauf \nWas erwartet dich\nMacht mit uns mit –  beim Charity Run: Laufen gegen Krebs!\nDie Spenden des Laufes gehen an den NÖ Krebshilfe – Soforthilfefonds und das Österreichisches Rotes Kreuz – Stammzellspende.\nIhr könnt live gemeinsam mit uns dabei sein am \nSonntag\, 19. April 2026 um 09:30 Uhr\nTREFFPUNKT: Donaulände Ybbs bei Stadthalle – Spielplatz \nWir werden eine 5 km Walking-Distanz und eine 5 km Lauf-Distanz anbieten.\nBei der Walking-Strecke könnt ihr auch super mit einem Kinderwagen oder Kinder mit Roller dabei sein. \nBei der Anmeldung kannst du auch gerne den TEAMNAMEN: „Kunterbunt Ybbs“ angeben.\nhttps://www.laufengegenkrebs.at/pages/anmelden.php \nSolltet ihr am 19. April verhindert sein\, dann könnt ihr auch gerne virtuell im Team „Kunterbunt Ybbs“ teilnehmen. Dazu einfach auch unter dem selben Link anmelden. Spontan Entschlossene können auch ohne Anmeldung mitmachen und wir leiten den Spendenbetrag an die Organisation weiter. \nWir freuen uns wenn wir mit dieser Aktion gemeinsam etwas Gutes tun und mit unserem Kunterbunt-Team möglichst viele Spenden ergehen bzw. erlaufen… 😉\nGerne auch an Freunde und Familien weitersagen 🙂
URL:https://www.kunterbunt-ybbs.at/event/laufen-gegen-krebs-3/
LOCATION:Donaulände\, Donaulände 2\, Ybbs an der Donau\, 3370\, Österreich
CATEGORIES:Sport & Entspannung,Vereinsangebot
ATTACH;FMTTYPE=image/jpeg:https://www.kunterbunt-ybbs.at/wp-content/uploads/2023/04/Bilder_web-2.jpg
ORGANIZER;CN="Kunterbunt Ybbs":MAILTO:kunterbunt.ybbs@gmail.com
GEO:48.1863993;15.0804395
X-APPLE-STRUCTURED-LOCATION;VALUE=URI;X-ADDRESS=Donaulände Donaulände 2 Ybbs an der Donau 3370 Österreich;X-APPLE-RADIUS=500;X-TITLE=Donaulände 2:geo:15.0804395,48.1863993
END:VEVENT
END:VCALENDAR