BEGIN:VCALENDAR
VERSION:2.0
PRODID:-//Kunterbunt - Familiennetzwerk Ybbs - ECPv6.15.20//NONSGML v1.0//EN
CALSCALE:GREGORIAN
METHOD:PUBLISH
X-ORIGINAL-URL:https://www.kunterbunt-ybbs.at
X-WR-CALDESC:Veranstaltungen für Kunterbunt - Familiennetzwerk Ybbs
REFRESH-INTERVAL;VALUE=DURATION:PT1H
X-Robots-Tag:noindex
X-PUBLISHED-TTL:PT1H
BEGIN:VTIMEZONE
TZID:Europe/Berlin
BEGIN:DAYLIGHT
TZOFFSETFROM:+0100
TZOFFSETTO:+0200
TZNAME:CEST
DTSTART:20240331T010000
END:DAYLIGHT
BEGIN:STANDARD
TZOFFSETFROM:+0200
TZOFFSETTO:+0100
TZNAME:CET
DTSTART:20241027T010000
END:STANDARD
BEGIN:DAYLIGHT
TZOFFSETFROM:+0100
TZOFFSETTO:+0200
TZNAME:CEST
DTSTART:20250330T010000
END:DAYLIGHT
BEGIN:STANDARD
TZOFFSETFROM:+0200
TZOFFSETTO:+0100
TZNAME:CET
DTSTART:20251026T010000
END:STANDARD
BEGIN:DAYLIGHT
TZOFFSETFROM:+0100
TZOFFSETTO:+0200
TZNAME:CEST
DTSTART:20260329T010000
END:DAYLIGHT
BEGIN:STANDARD
TZOFFSETFROM:+0200
TZOFFSETTO:+0100
TZNAME:CET
DTSTART:20261025T010000
END:STANDARD
END:VTIMEZONE
BEGIN:VEVENT
DTSTART;TZID=Europe/Berlin:20251025T100000
DTEND;TZID=Europe/Berlin:20251025T110000
DTSTAMP:20260421T135943
CREATED:20251010T094731Z
LAST-MODIFIED:20251010T095830Z
UID:10002040-1761386400-1761390000@www.kunterbunt-ybbs.at
SUMMARY:Kunterbunte Lesezeit
DESCRIPTION:Kursleiterin\nClaudia Ertl | Kinderbuchautorin\, Legasthenietrainerin \nWas erwartet dich\nKinderbuchautorin – Claudia Ertl – liest ihre selbst geschriebenen und veröffentlichten Bücher vor.  www.ertl-buch.at \nEs ist Herbst – die Gruselzeit beginnt.\nWir lesen BUTTERMILCH UM MITTERNACHT\, eine Geschichte von einem kleinen ängstlichen Gespenst\, das sich vor Menschen fürchtet und basteln Lesezeichen und rote Serviettengespenster. \nTermin\nSamstag 25. Oktober 2025 | 10:00 – 11:00 Uhr \nAlter\n5 bis 10 Jahre \nKosten\n8\,- EURO | 5\,- EURO für Kunterbunt-Mitglieder (Teilnahme ohne Begleitperson) \nTreffpunkt\nPfarrzentrum Ybbs\, Peter-Rosegger-Promenade 5\, 3370 Ybbs an der Donau \nAnmeldung\nBitte aktiviere JavaScript in deinem Browser\, um dieses Formular fertigzustellen.Bitte aktiviere JavaScript in deinem Browser\, um dieses Formular fertigzustellen.		\n			Name Kurs-URL Name\n			\n		\n		Wenn Sie mehrere Kinder zum selben Kurs anmelden möchten\, füllen Sie dieses Formular nacheinander aus.  Name des Erziehungsberechtigten *E-Mail-Adresse *Ihre Telefonnummer *Geschlecht Ihres Kindes *WeiblichMännlichName Ihres Kindes *Alter Ihres Kindes *Sind Sie Kunterbunt Mitglied? *JaNeinDas sollte Kunterbunt über mein Kind wissen?Absenden
URL:https://www.kunterbunt-ybbs.at/event/kunterbunte-lesezeit/
LOCATION:Pfarrzentrum Ybbs/Donau\, Peter Rosegger Promenade 5\, Ybbs an der Donau\, Niederösterreich\, 3370\, Österreich
CATEGORIES:Musik & Kreativität
ATTACH;FMTTYPE=image/jpeg:https://www.kunterbunt-ybbs.at/wp-content/uploads/2025/10/1.jpg
GEO:48.1795792;15.0829745
X-APPLE-STRUCTURED-LOCATION;VALUE=URI;X-ADDRESS=Pfarrzentrum Ybbs/Donau Peter Rosegger Promenade 5 Ybbs an der Donau Niederösterreich 3370 Österreich;X-APPLE-RADIUS=500;X-TITLE=Peter Rosegger Promenade 5:geo:15.0829745,48.1795792
END:VEVENT
END:VCALENDAR