BEGIN:VCALENDAR
VERSION:2.0
PRODID:-//Kunterbunt - Familiennetzwerk Ybbs - ECPv6.15.20//NONSGML v1.0//EN
CALSCALE:GREGORIAN
METHOD:PUBLISH
X-ORIGINAL-URL:https://www.kunterbunt-ybbs.at
X-WR-CALDESC:Veranstaltungen für Kunterbunt - Familiennetzwerk Ybbs
REFRESH-INTERVAL;VALUE=DURATION:PT1H
X-Robots-Tag:noindex
X-PUBLISHED-TTL:PT1H
BEGIN:VTIMEZONE
TZID:Europe/Berlin
BEGIN:DAYLIGHT
TZOFFSETFROM:+0100
TZOFFSETTO:+0200
TZNAME:CEST
DTSTART:20250330T010000
END:DAYLIGHT
BEGIN:STANDARD
TZOFFSETFROM:+0200
TZOFFSETTO:+0100
TZNAME:CET
DTSTART:20251026T010000
END:STANDARD
BEGIN:DAYLIGHT
TZOFFSETFROM:+0100
TZOFFSETTO:+0200
TZNAME:CEST
DTSTART:20260329T010000
END:DAYLIGHT
BEGIN:STANDARD
TZOFFSETFROM:+0200
TZOFFSETTO:+0100
TZNAME:CET
DTSTART:20261025T010000
END:STANDARD
BEGIN:DAYLIGHT
TZOFFSETFROM:+0100
TZOFFSETTO:+0200
TZNAME:CEST
DTSTART:20270328T010000
END:DAYLIGHT
BEGIN:STANDARD
TZOFFSETFROM:+0200
TZOFFSETTO:+0100
TZNAME:CET
DTSTART:20271031T010000
END:STANDARD
END:VTIMEZONE
BEGIN:VEVENT
DTSTART;TZID=Europe/Berlin:20260325T170000
DTEND;TZID=Europe/Berlin:20260325T181500
DTSTAMP:20260421T123800
CREATED:20260126T193859Z
LAST-MODIFIED:20260126T193859Z
UID:10002270-1774458000-1774462500@www.kunterbunt-ybbs.at
SUMMARY:Malatelier für Kinder
DESCRIPTION:Kursleiterin\nMaria Aigner | Kreativwerkstatt- Kunsttherapie\, Pädagogin\n \nWas erwartet dich\nDurch kreatives Tun kann jedes Kind Selbstbewusstsein stärken und die eigenen Fähigkeiten ausbauen und entwickeln! Malen macht Kindern Freude und schafft Raum\, selbst tätig zu werden!  \nHier gibt es genügend Angebote an Farben\, Malwerkzeugen und anderen kreativen Materialen. (Acrylfarben\, Ölkreiden\, Pastellkreiden\, Gips) Hier zeige ich auch gerne neue Techniken her oder helfe eigne Ideen zu verwirklichen. Gemalt wird auf großen Papierbögen oder einer Leinwand\, es geht um den Spaß am Tun.  \nFür alle Kinder ab ca. 5 bis 12 Jahre\, keine künstlerischen Vorkenntnisse erforderlich! \nTermine einzeln buchbar\nMittwoch\, 25. März und 22. April 2026 (einzeln buchbar) | 17:00 – 18:15 Uhr \nOrt\nHabichstraße 34\, 3376 Ennsbach im Malraum \nKosten \n22\,- Euro | pro Termin inkl. Farben\, großen Bögen Papier und einer Leinwand \nAnmeldung\nMaria Aigner | 0664/54 10 944 | maria.aigner1@gmx.net\nAnmeldeschluss jeweils 2 Tage vor dem Termin \nZum Kurs mitzubringen\nBitte alte Kleidung anziehen.
URL:https://www.kunterbunt-ybbs.at/event/malatelier-fuer-kinder-2/2026-03-25/
LOCATION:Aigner Maria\, Habichstrasse 34\, Ennsbach\, Niederösterreich\, 3376\, Österreich
CATEGORIES:Musik & Kreativität
ATTACH;FMTTYPE=image/jpeg:https://www.kunterbunt-ybbs.at/wp-content/uploads/2024/01/Malatelier2.jpg
ORGANIZER;CN="Maria Aigner":MAILTO:maria.aigner1@gmx.net   
GEO:48.14612;15.02902
X-APPLE-STRUCTURED-LOCATION;VALUE=URI;X-ADDRESS=Aigner Maria Habichstrasse 34 Ennsbach Niederösterreich 3376 Österreich;X-APPLE-RADIUS=500;X-TITLE=Habichstrasse 34:geo:15.02902,48.14612
END:VEVENT
BEGIN:VEVENT
DTSTART;TZID=Europe/Berlin:20260313T170000
DTEND;TZID=Europe/Berlin:20260313T183000
DTSTAMP:20260421T123800
CREATED:20260126T193149Z
LAST-MODIFIED:20260212T192454Z
UID:10002264-1773421200-1773426600@www.kunterbunt-ybbs.at
SUMMARY:Kreativ mit Ton! Kleine Gefäße und Tiere formen
DESCRIPTION:Kursleiterin\nMaria Aigner | Pädagogin\, Kreativwerkstatt – Kunst-/Mal- und Gestaltungstherapie \nWas erwartet dich\nDu kannst mit dem Werkstoff Ton hantieren und gestalten; mit Anleitung gestalten wir kleine Tongefäße für Kerzen\, Figuren und Tiere aus Ton. Beim ersten Termin wird geformt und gestaltet\, beim 2. Termin wird das fertige Stück noch mit Acrylfarben und Lack gestaltet. Du wirst staunen\, was mit Ton alles machbar ist! Kreativität fördert Entwicklung und macht gute Laune! \nKreativität fördert Entwicklung und macht gute Laune!  \nKinder 5-13 Jahre \nTermin\nFreitag\, 13. März 2026 | 17:00 – 18:30 Uhr → Formen der Tonstücke\nFreitag\, 20. März 2026 | 17:00 – 18:30 Uhr → Bemalen und verzieren der fertigen Stücke \nOrt\nMalraum\, Habichstraße 34\, 3376 Ennsbach \nKosten \n45\,- Euro | pro Kind für beide Termine ( inkl. Material\, Ton\, Farben\, Trocknung) \nAnmeldung\nMaria Aigner | maria.aigner1@gmx.net | 0664/54 10 944 \nAnmeldeschluss 2 Tage vor dem Termin\nBitte altes Gewand anziehen oder mitbringen! 
URL:https://www.kunterbunt-ybbs.at/event/kreativ-mit-ton-kleine-gefaesse-und-tiere-formen-2/
LOCATION:Aigner Maria\, Habichstrasse 34\, Ennsbach\, Niederösterreich\, 3376\, Österreich
CATEGORIES:Musik & Kreativität
ATTACH;FMTTYPE=image/jpeg:https://www.kunterbunt-ybbs.at/wp-content/uploads/2024/07/Bilder_web-35.jpg
ORGANIZER;CN="Maria Aigner":MAILTO:maria.aigner1@gmx.net   
GEO:48.14612;15.02902
X-APPLE-STRUCTURED-LOCATION;VALUE=URI;X-ADDRESS=Aigner Maria Habichstrasse 34 Ennsbach Niederösterreich 3376 Österreich;X-APPLE-RADIUS=500;X-TITLE=Habichstrasse 34:geo:15.02902,48.14612
END:VEVENT
END:VCALENDAR