BEGIN:VCALENDAR
VERSION:2.0
PRODID:-//Kunterbunt - Familiennetzwerk Ybbs - ECPv6.15.20//NONSGML v1.0//EN
CALSCALE:GREGORIAN
METHOD:PUBLISH
X-ORIGINAL-URL:https://www.kunterbunt-ybbs.at
X-WR-CALDESC:Veranstaltungen für Kunterbunt - Familiennetzwerk Ybbs
REFRESH-INTERVAL;VALUE=DURATION:PT1H
X-Robots-Tag:noindex
X-PUBLISHED-TTL:PT1H
BEGIN:VTIMEZONE
TZID:Europe/Berlin
BEGIN:DAYLIGHT
TZOFFSETFROM:+0100
TZOFFSETTO:+0200
TZNAME:CEST
DTSTART:20250330T010000
END:DAYLIGHT
BEGIN:STANDARD
TZOFFSETFROM:+0200
TZOFFSETTO:+0100
TZNAME:CET
DTSTART:20251026T010000
END:STANDARD
BEGIN:DAYLIGHT
TZOFFSETFROM:+0100
TZOFFSETTO:+0200
TZNAME:CEST
DTSTART:20260329T010000
END:DAYLIGHT
BEGIN:STANDARD
TZOFFSETFROM:+0200
TZOFFSETTO:+0100
TZNAME:CET
DTSTART:20261025T010000
END:STANDARD
BEGIN:DAYLIGHT
TZOFFSETFROM:+0100
TZOFFSETTO:+0200
TZNAME:CEST
DTSTART:20270328T010000
END:DAYLIGHT
BEGIN:STANDARD
TZOFFSETFROM:+0200
TZOFFSETTO:+0100
TZNAME:CET
DTSTART:20271031T010000
END:STANDARD
END:VTIMEZONE
BEGIN:VEVENT
DTSTART;TZID=Europe/Berlin:20260415T140000
DTEND;TZID=Europe/Berlin:20260415T150000
DTSTAMP:20260421T161302
CREATED:20260128T190735Z
LAST-MODIFIED:20260128T190859Z
UID:10002137-1776261600-1776265200@www.kunterbunt-ybbs.at
SUMMARY:Piccolini
DESCRIPTION:Kursleiterin\nSandra Porranzl | ÜL Reiten\, ÜL Voltigieren \nWas erwartet dich\nDie Kinder werden im Piccolini-Levelsystem 1-3 pädagogisch und altersgerecht angepasst\, auf den zukünftigen Reitunterricht vorbereitet.\nSpielerisch und mit dem Partner Pony wird hier die körperliche und motorische Entwicklung des Kindes gefördert. \nGemeinsam erleben und erlernen die Kinder: \n\n*Erste Begegnung mit dem Partner Pferd\n*Spielerische Bewegungserfahrung auf und mit dem Pferd\n*Einen verantwortungs- und respektvollen Umgang mit dem Pferd\n*Spaß mit Freunden\n*Kreativität\n\nDurch die ständige Bewegung des Ponys während des Reitens (Kinder werden geführt)\, entsteht ein Wechselspiel von An- und Entspannung der Muskulatur. Das Körperbewusstsein und der Gleichgewichtssinn werden geschult und möglichen Haltungsproblemen kann vorgebeugt werden bzw. können diese minimiert werden. Der Partner Pony und der Bewegungsunterricht in kleinen Gruppen sind eine tolle Ergänzung in der Bewegungswelt von Kindern. \nFür Kinder 3-6 Jahre ( ohne Begleitung) | Gruppengröße: 2-4 Kinder \nTermine\nKurs 1: ab Mittwoch\, 04. März 2026 | 14:00 und 15:00 Uhr \nKurs 2: ab Mittwoch\, 15. April 2026 | 14:00 und 15:00 Uhr \nKurs 3: ab Mittwoch\, 20. Mai 2026 | 14:00 und 15:00 Uhr \nOrt\nRehberg 2\, 3681 Hofamt Priel \nKosten    \n120\,- EURO pro Kurs | 5 Termine á 60 min. | 100\,- EURO bei Buchung mehrerer Kurse \nAnmeldung\nSandra Porranzl | sandra.porranzl@drei.at | 0699/10 42 93 31 | reitunterricht-porranzl.at
URL:https://www.kunterbunt-ybbs.at/event/piccolini/2026-04-15/
LOCATION:Reitunterricht Porranzl\, Rehberg 2\, Hofamt Priel\, 3681\, Austria
CATEGORIES:Natur & Tiere
ATTACH;FMTTYPE=image/jpeg:https://www.kunterbunt-ybbs.at/wp-content/uploads/2023/07/Bilder_web-89.jpg
ORGANIZER;CN="Sandra Porranzl":MAILTO:sandra.porranzl@drei.at
GEO:48.1924764;15.0985137
X-APPLE-STRUCTURED-LOCATION;VALUE=URI;X-ADDRESS=Reitunterricht Porranzl Rehberg 2 Hofamt Priel 3681 Austria;X-APPLE-RADIUS=500;X-TITLE=Rehberg 2:geo:15.0985137,48.1924764
END:VEVENT
BEGIN:VEVENT
DTSTART;TZID=Europe/Berlin:20260304T140000
DTEND;TZID=Europe/Berlin:20260304T150000
DTSTAMP:20260421T161302
CREATED:20260128T190735Z
LAST-MODIFIED:20260128T190859Z
UID:10002136-1772632800-1772636400@www.kunterbunt-ybbs.at
SUMMARY:Piccolini
DESCRIPTION:Kursleiterin\nSandra Porranzl | ÜL Reiten\, ÜL Voltigieren \nWas erwartet dich\nDie Kinder werden im Piccolini-Levelsystem 1-3 pädagogisch und altersgerecht angepasst\, auf den zukünftigen Reitunterricht vorbereitet.\nSpielerisch und mit dem Partner Pony wird hier die körperliche und motorische Entwicklung des Kindes gefördert. \nGemeinsam erleben und erlernen die Kinder: \n\n*Erste Begegnung mit dem Partner Pferd\n*Spielerische Bewegungserfahrung auf und mit dem Pferd\n*Einen verantwortungs- und respektvollen Umgang mit dem Pferd\n*Spaß mit Freunden\n*Kreativität\n\nDurch die ständige Bewegung des Ponys während des Reitens (Kinder werden geführt)\, entsteht ein Wechselspiel von An- und Entspannung der Muskulatur. Das Körperbewusstsein und der Gleichgewichtssinn werden geschult und möglichen Haltungsproblemen kann vorgebeugt werden bzw. können diese minimiert werden. Der Partner Pony und der Bewegungsunterricht in kleinen Gruppen sind eine tolle Ergänzung in der Bewegungswelt von Kindern. \nFür Kinder 3-6 Jahre ( ohne Begleitung) | Gruppengröße: 2-4 Kinder \nTermine\nKurs 1: ab Mittwoch\, 04. März 2026 | 14:00 und 15:00 Uhr \nKurs 2: ab Mittwoch\, 15. April 2026 | 14:00 und 15:00 Uhr \nKurs 3: ab Mittwoch\, 20. Mai 2026 | 14:00 und 15:00 Uhr \nOrt\nRehberg 2\, 3681 Hofamt Priel \nKosten    \n120\,- EURO pro Kurs | 5 Termine á 60 min. | 100\,- EURO bei Buchung mehrerer Kurse \nAnmeldung\nSandra Porranzl | sandra.porranzl@drei.at | 0699/10 42 93 31 | reitunterricht-porranzl.at
URL:https://www.kunterbunt-ybbs.at/event/piccolini/2026-03-04/
LOCATION:Reitunterricht Porranzl\, Rehberg 2\, Hofamt Priel\, 3681\, Austria
CATEGORIES:Natur & Tiere
ATTACH;FMTTYPE=image/jpeg:https://www.kunterbunt-ybbs.at/wp-content/uploads/2023/07/Bilder_web-89.jpg
ORGANIZER;CN="Sandra Porranzl":MAILTO:sandra.porranzl@drei.at
GEO:48.1924764;15.0985137
X-APPLE-STRUCTURED-LOCATION;VALUE=URI;X-ADDRESS=Reitunterricht Porranzl Rehberg 2 Hofamt Priel 3681 Austria;X-APPLE-RADIUS=500;X-TITLE=Rehberg 2:geo:15.0985137,48.1924764
END:VEVENT
END:VCALENDAR