BEGIN:VCALENDAR
VERSION:2.0
PRODID:-//Kunterbunt - Familiennetzwerk Ybbs - ECPv6.15.20//NONSGML v1.0//EN
CALSCALE:GREGORIAN
METHOD:PUBLISH
X-WR-CALNAME:Kunterbunt - Familiennetzwerk Ybbs
X-ORIGINAL-URL:https://www.kunterbunt-ybbs.at
X-WR-CALDESC:Veranstaltungen für Kunterbunt - Familiennetzwerk Ybbs
REFRESH-INTERVAL;VALUE=DURATION:PT1H
X-Robots-Tag:noindex
X-PUBLISHED-TTL:PT1H
BEGIN:VTIMEZONE
TZID:Europe/Berlin
BEGIN:DAYLIGHT
TZOFFSETFROM:+0100
TZOFFSETTO:+0200
TZNAME:CEST
DTSTART:20250330T010000
END:DAYLIGHT
BEGIN:STANDARD
TZOFFSETFROM:+0200
TZOFFSETTO:+0100
TZNAME:CET
DTSTART:20251026T010000
END:STANDARD
BEGIN:DAYLIGHT
TZOFFSETFROM:+0100
TZOFFSETTO:+0200
TZNAME:CEST
DTSTART:20260329T010000
END:DAYLIGHT
BEGIN:STANDARD
TZOFFSETFROM:+0200
TZOFFSETTO:+0100
TZNAME:CET
DTSTART:20261025T010000
END:STANDARD
BEGIN:DAYLIGHT
TZOFFSETFROM:+0100
TZOFFSETTO:+0200
TZNAME:CEST
DTSTART:20270328T010000
END:DAYLIGHT
BEGIN:STANDARD
TZOFFSETFROM:+0200
TZOFFSETTO:+0100
TZNAME:CET
DTSTART:20271031T010000
END:STANDARD
END:VTIMEZONE
BEGIN:VEVENT
DTSTART;TZID=Europe/Berlin:20260408T173000
DTEND;TZID=Europe/Berlin:20260408T183000
DTSTAMP:20260421T144309
CREATED:20260126T143557Z
LAST-MODIFIED:20260126T143557Z
UID:10002219-1775669400-1775673000@www.kunterbunt-ybbs.at
SUMMARY:Jugend Wing Tsun (11-14 Jahre)
DESCRIPTION:Kursleiterin\nDaniela Weidinger | Wing Tsun Trainerin \nWas erwartet dich\nSelbstbewusst und stark durchs Teenageralter! Unser speziell entwickeltes Trainingsprogramm unterstützt Jugendliche dabei\, ihren eigenen Weg selbstsicher zu gehen. In der Gruppe lernen sie nicht nur effektive Selbstverteidigungstechniken\, sondern entwickeln auch wichtige soziale Kompetenzen für Schule und Alltag. \nDas Training fördert: \n\nSelbstbehauptung gegen Mobbing und Gruppendruck\nKonzentration und körperliche Fitness\nRespektvollen Umgang mit anderen\nEin gesundes Selbstbewusstsein\n\nMit der traditionellen WingTsun-Methode lernen Jugendliche\, Konfliktsituationen frühzeitig zu erkennen und intelligent zu lösen. Dabei steht nicht der kämpferische Aspekt im Vordergrund\, sondern die Entwicklung zu einer starken Persönlichkeit. Ein sinnvoller Ausgleich zum Schulalltag – für mehr Selbstvertrauen und innere Stärke! \nTermin\njeden Mittwoch ab 4. März 2026 | 17:30 – 18:30 Uhr \nOrt\nÖTB Turnhalle\, Schulring 3\, 3370 Ybbs an der Donau \nKosten\n49\,- EURO | pro Monat \nAnmeldung\nDaniela Weidinger | daniela.weidinger@wibs.at | 0676/ 66 11 512 | facebook.com/groups/selbstverteidigung.kinder
URL:https://www.kunterbunt-ybbs.at/event/jugend-wing-tsun-11-14-jahre-2/2026-04-08/
LOCATION:ÖTB Turnhalle Ybbs/Donau\, Schulring 3\, Ybbs/Donau\, Niederösterreich\, 3370\, Österreich
CATEGORIES:Sport & Entspannung
ATTACH;FMTTYPE=image/png:https://www.kunterbunt-ybbs.at/wp-content/uploads/2024/07/Wing-Tsun-Jugend_Foto.png
ORGANIZER;CN="Daniela Weidinger":MAILTO:daniela.weidinger@wibs.at
GEO:48.1773332;15.082251
X-APPLE-STRUCTURED-LOCATION;VALUE=URI;X-ADDRESS=ÖTB Turnhalle Ybbs/Donau Schulring 3 Ybbs/Donau Niederösterreich 3370 Österreich;X-APPLE-RADIUS=500;X-TITLE=Schulring 3:geo:15.082251,48.1773332
END:VEVENT
BEGIN:VEVENT
DTSTART;TZID=Europe/Berlin:20260304T173000
DTEND;TZID=Europe/Berlin:20260304T183000
DTSTAMP:20260421T144309
CREATED:20260126T143557Z
LAST-MODIFIED:20260126T143557Z
UID:10002218-1772645400-1772649000@www.kunterbunt-ybbs.at
SUMMARY:Jugend Wing Tsun (11-14 Jahre)
DESCRIPTION:Kursleiterin\nDaniela Weidinger | Wing Tsun Trainerin \nWas erwartet dich\nSelbstbewusst und stark durchs Teenageralter! Unser speziell entwickeltes Trainingsprogramm unterstützt Jugendliche dabei\, ihren eigenen Weg selbstsicher zu gehen. In der Gruppe lernen sie nicht nur effektive Selbstverteidigungstechniken\, sondern entwickeln auch wichtige soziale Kompetenzen für Schule und Alltag. \nDas Training fördert: \n\nSelbstbehauptung gegen Mobbing und Gruppendruck\nKonzentration und körperliche Fitness\nRespektvollen Umgang mit anderen\nEin gesundes Selbstbewusstsein\n\nMit der traditionellen WingTsun-Methode lernen Jugendliche\, Konfliktsituationen frühzeitig zu erkennen und intelligent zu lösen. Dabei steht nicht der kämpferische Aspekt im Vordergrund\, sondern die Entwicklung zu einer starken Persönlichkeit. Ein sinnvoller Ausgleich zum Schulalltag – für mehr Selbstvertrauen und innere Stärke! \nTermin\njeden Mittwoch ab 4. März 2026 | 17:30 – 18:30 Uhr \nOrt\nÖTB Turnhalle\, Schulring 3\, 3370 Ybbs an der Donau \nKosten\n49\,- EURO | pro Monat \nAnmeldung\nDaniela Weidinger | daniela.weidinger@wibs.at | 0676/ 66 11 512 | facebook.com/groups/selbstverteidigung.kinder
URL:https://www.kunterbunt-ybbs.at/event/jugend-wing-tsun-11-14-jahre-2/2026-03-04/
LOCATION:ÖTB Turnhalle Ybbs/Donau\, Schulring 3\, Ybbs/Donau\, Niederösterreich\, 3370\, Österreich
CATEGORIES:Sport & Entspannung
ATTACH;FMTTYPE=image/png:https://www.kunterbunt-ybbs.at/wp-content/uploads/2024/07/Wing-Tsun-Jugend_Foto.png
ORGANIZER;CN="Daniela Weidinger":MAILTO:daniela.weidinger@wibs.at
GEO:48.1773332;15.082251
X-APPLE-STRUCTURED-LOCATION;VALUE=URI;X-ADDRESS=ÖTB Turnhalle Ybbs/Donau Schulring 3 Ybbs/Donau Niederösterreich 3370 Österreich;X-APPLE-RADIUS=500;X-TITLE=Schulring 3:geo:15.082251,48.1773332
END:VEVENT
END:VCALENDAR