BEGIN:VCALENDAR
VERSION:2.0
PRODID:-//Kunterbunt - Familiennetzwerk Ybbs - ECPv6.15.20//NONSGML v1.0//EN
CALSCALE:GREGORIAN
METHOD:PUBLISH
X-ORIGINAL-URL:https://www.kunterbunt-ybbs.at
X-WR-CALDESC:Veranstaltungen für Kunterbunt - Familiennetzwerk Ybbs
REFRESH-INTERVAL;VALUE=DURATION:PT1H
X-Robots-Tag:noindex
X-PUBLISHED-TTL:PT1H
BEGIN:VTIMEZONE
TZID:Europe/Berlin
BEGIN:DAYLIGHT
TZOFFSETFROM:+0100
TZOFFSETTO:+0200
TZNAME:CEST
DTSTART:20250330T010000
END:DAYLIGHT
BEGIN:STANDARD
TZOFFSETFROM:+0200
TZOFFSETTO:+0100
TZNAME:CET
DTSTART:20251026T010000
END:STANDARD
BEGIN:DAYLIGHT
TZOFFSETFROM:+0100
TZOFFSETTO:+0200
TZNAME:CEST
DTSTART:20260329T010000
END:DAYLIGHT
BEGIN:STANDARD
TZOFFSETFROM:+0200
TZOFFSETTO:+0100
TZNAME:CET
DTSTART:20261025T010000
END:STANDARD
BEGIN:DAYLIGHT
TZOFFSETFROM:+0100
TZOFFSETTO:+0200
TZNAME:CEST
DTSTART:20270328T010000
END:DAYLIGHT
BEGIN:STANDARD
TZOFFSETFROM:+0200
TZOFFSETTO:+0100
TZNAME:CET
DTSTART:20271031T010000
END:STANDARD
END:VTIMEZONE
BEGIN:VEVENT
DTSTART;TZID=Europe/Berlin:20260513T183000
DTEND;TZID=Europe/Berlin:20260513T213000
DTSTAMP:20260421T115655
CREATED:20260124T093140Z
LAST-MODIFIED:20260128T194518Z
UID:10002088-1778697000-1778707800@www.kunterbunt-ybbs.at
SUMMARY:Urlaubskräuterapotheke – natürlich gesund unterwegs
DESCRIPTION:Kursleiterin\nAnita Landstetter | Dipl. FNL-Kräuterexpertin und Dipl. Bachblüten-Beraterin \nWas erwartet dich\nMach dich fit für Sommer\, Sonne & Reisezeit – mit der Kraft der Kräuter!\nSchnelle Hilfe im Sommer\, im Urlaub und unterwegs – für die ganze Familie!\nIn diesem Workshop zeige ich dir\, wie du deine eigene kleine Urlaubsapotheke aus heimischen Heilpflanzen zusammenstellst – natürlich\, wirksam und ganz ohne Nebenwirkungen. Ob Bienen- und Gelsenstich\, Sonnenbrand\, Durchfall & Co. – mit einfachen\, selbst gemachten\nKräuterzubereitungen bist du bestens gerüstet. Gemeinsam entdecken wir die heimischen Heil- und Arzneikräuter unserer Umgebung:\n*welche Kräuter helfen\,\n*wann und wie sie geerntet werden\,\n*und wie du sie zu wirkungsvollen Naturarzneien verarbeitest.\nIch zeige dir Schritt für Schritt\, wie’s geht – mit einer harmonischen Mischung aus Theorie und Praxis\, duftenden Kräutern und ganz viel Spaß am Tun. So entsteht deine ganz persönliche Urlaubskräuter-Apotheke – einfach herzustellen\, natürlich gesund und perfekt für unterwegs! \nTermin\nMittwoch\, 13. Mai 2026 | 18:30 – 21:30 Uhr \nOrt\nGemeindezentrum 3681 Hofamt Priel\, Dorfplatz 1 \nKosten\n68\,- EURO pro Person | inkl. Material\, Unterlagen + Rezepte \nAnmeldung\nOafoch aus der Natur | office@oafoch.at | 0680/20 80 790 | oafoch.at/events
URL:https://www.kunterbunt-ybbs.at/event/urlaubskraeuterapotheke/
LOCATION:Gemeindezentrum Hofamt Priel\, Dorfplatz 1\, Hofamt Priel\, Niederösterreich\, 3681
CATEGORIES:Gesundheit & Ernährung
ATTACH;FMTTYPE=image/jpeg:https://www.kunterbunt-ybbs.at/wp-content/uploads/2026/01/Urlaubskraeuterapotheke-26.jpg
ORGANIZER;CN="Anita Landstetter":MAILTO:office@oafoch.at
GEO:48.1957512;15.079047
X-APPLE-STRUCTURED-LOCATION;VALUE=URI;X-ADDRESS=Gemeindezentrum Hofamt Priel Dorfplatz 1 Hofamt Priel Niederösterreich 3681;X-APPLE-RADIUS=500;X-TITLE=Dorfplatz 1:geo:15.079047,48.1957512
END:VEVENT
BEGIN:VEVENT
DTSTART;TZID=Europe/Berlin:20260612T160000
DTEND;TZID=Europe/Berlin:20260612T193000
DTSTAMP:20260421T115655
CREATED:20260124T093107Z
LAST-MODIFIED:20260128T194444Z
UID:10002089-1781280000-1781292600@www.kunterbunt-ybbs.at
SUMMARY:Destillieren – Vom Kraut zum Hydrolat
DESCRIPTION:Kursleiterin\nAnita Landstetter | Dipl. FNL-Kräuterexpertin und Dipl. Bachblüten-Beraterin \nWas erwartet dich\nIn diesem Workshop lernst du ganz praktisch\, wie die Destillation von Kräutern und Blüten funktioniert.\nGemeinsam destillieren wir zwei verschiedene Pflanzen und gewinnen daraus ein duftende Hydrolate – feines Pflanzenwasser\, das bei der Gewinnung ätherischer Öle entsteht.\nWir besprechen:\n*Was sind Hydrolate – und wie entstehen ätherische Öle?\n*Was versteht man unter Wasserdampfdestillation?\n*Welche Pflanzen eignen sich besonders gut zum Destillieren – und wie kannst du Hydrolate anschließend verwenden?\nEin Kurs für alle\, die Kräuterwissen vertiefen und die Herstellung natürlicher Pflanzenprodukte Schritt für Schritt kennenlernen möchten – verständlich\, praxisnah und bodenständig. \nTermin\nFreitag\, 12. Juni 2026 | 16:00 – 19:30 Uhr \nOrt\nGemeindezentrum 3681 Hofamt Priel\, Dorfplatz 1 \nKosten\n68\,- EURO pro Person | inkl. Material\, Unterlagen und 2 Hydrolate \nAnmeldung\nOafoch aus der Natur | office@oafoch.at | 0680/20 80 790 | oafoch.at/events
URL:https://www.kunterbunt-ybbs.at/event/destillieren/
LOCATION:Gemeindezentrum Hofamt Priel\, Dorfplatz 1\, Hofamt Priel\, Niederösterreich\, 3681
CATEGORIES:Gesundheit & Ernährung
ATTACH;FMTTYPE=image/jpeg:https://www.kunterbunt-ybbs.at/wp-content/uploads/2026/01/DuftzauberDestille2026-768x644-1.jpg
ORGANIZER;CN="Anita Landstetter":MAILTO:office@oafoch.at
GEO:48.1957512;15.079047
X-APPLE-STRUCTURED-LOCATION;VALUE=URI;X-ADDRESS=Gemeindezentrum Hofamt Priel Dorfplatz 1 Hofamt Priel Niederösterreich 3681;X-APPLE-RADIUS=500;X-TITLE=Dorfplatz 1:geo:15.079047,48.1957512
END:VEVENT
END:VCALENDAR