BEGIN:VCALENDAR
VERSION:2.0
PRODID:-//Kunterbunt - Familiennetzwerk Ybbs - ECPv6.15.20//NONSGML v1.0//EN
CALSCALE:GREGORIAN
METHOD:PUBLISH
X-WR-CALNAME:Kunterbunt - Familiennetzwerk Ybbs
X-ORIGINAL-URL:https://www.kunterbunt-ybbs.at
X-WR-CALDESC:Veranstaltungen für Kunterbunt - Familiennetzwerk Ybbs
REFRESH-INTERVAL;VALUE=DURATION:PT1H
X-Robots-Tag:noindex
X-PUBLISHED-TTL:PT1H
BEGIN:VTIMEZONE
TZID:Europe/Berlin
BEGIN:DAYLIGHT
TZOFFSETFROM:+0100
TZOFFSETTO:+0200
TZNAME:CEST
DTSTART:20250330T010000
END:DAYLIGHT
BEGIN:STANDARD
TZOFFSETFROM:+0200
TZOFFSETTO:+0100
TZNAME:CET
DTSTART:20251026T010000
END:STANDARD
BEGIN:DAYLIGHT
TZOFFSETFROM:+0100
TZOFFSETTO:+0200
TZNAME:CEST
DTSTART:20260329T010000
END:DAYLIGHT
BEGIN:STANDARD
TZOFFSETFROM:+0200
TZOFFSETTO:+0100
TZNAME:CET
DTSTART:20261025T010000
END:STANDARD
BEGIN:DAYLIGHT
TZOFFSETFROM:+0100
TZOFFSETTO:+0200
TZNAME:CEST
DTSTART:20270328T010000
END:DAYLIGHT
BEGIN:STANDARD
TZOFFSETFROM:+0200
TZOFFSETTO:+0100
TZNAME:CET
DTSTART:20271031T010000
END:STANDARD
END:VTIMEZONE
BEGIN:VEVENT
DTSTART;TZID=Europe/Berlin:20260620T093000
DTEND;TZID=Europe/Berlin:20260620T113000
DTSTAMP:20260422T150116
CREATED:20260120T090313Z
LAST-MODIFIED:20260127T193416Z
UID:10002074-1781947800-1781955000@www.kunterbunt-ybbs.at
SUMMARY:Bauchgefühl und Fachwissen - Das Hebammenfrühstück
DESCRIPTION:Kursleiterinnen\nHebammen Sarah Wegerer und Vanessa Brückler \nWas erwartet dich\nWir laden alle schwangeren Mamis und ihre Familien zu einem gemeinsamen Treffen bei Kaffee und Kuchen ein. So können wir uns gegenseitig kennenlernen\, zu aktuellen Themen austauschen und erste Bekanntschaften\nknüpfen. Die beiden Hebamme\, Sarah Wegerer und Vanessa Brückler werden das Treffen begleiten und sind für eure Fragen und Anliegen da. Verbringen wir gemeinsam eine gemütliche Zeit. Größere Kinder können natürlich\nmitgenommen werden\, es stehen Spielmaterial und Bücher bereit. \nTermin\nSamstag\, 20. Juni 2026 | 09:30 – 11:30 Uhr \nOrt\nOrdination Hebamme Sarah Wegerer\, Gmeiner-Straße 14\, 3370 Ybbs \nKosten    \n10\,- EURO pro Familie \nKontakt\nSarah Wegerer | 0650/93 02 123 | info@hebamme-sarah.at \nAnmeldung\nBitte aktiviere JavaScript in deinem Browser\, um dieses Formular fertigzustellen.Bitte aktiviere JavaScript in deinem Browser\, um dieses Formular fertigzustellen.		\n			Kunterbunt Leitung Veranstaltung\n			\n		\n		Wenn Sie mehrere Personen zum selben Kurs anmelden möchten\, füllen Sie dieses Formular nacheinander aus.  Geschlecht *WeiblichMännlichName *E-Mail-Adresse *Ihre Telefonnummer *Sind Sie Kunterbunt Mitglied? *JaNeinAnmerkungAbsenden
URL:https://www.kunterbunt-ybbs.at/event/bauchgefuehl-und-fachwissen-das-hebammenfruehstueck/
LOCATION:Hebammenordination Sarah Wegerer\, Gmeiner-Straße 14\, Ybbs an der Donau\, Niederösterreich\, 3370
CATEGORIES:Schwangerschaft & Baby,Vereinsangebot
ATTACH;FMTTYPE=image/jpeg:https://www.kunterbunt-ybbs.at/wp-content/uploads/2022/07/schwangerentreff_web.jpg
ORGANIZER;CN="Kunterbunt Ybbs":MAILTO:kunterbunt.ybbs@gmail.com
GEO:48.167013;15.0777956
X-APPLE-STRUCTURED-LOCATION;VALUE=URI;X-ADDRESS=Hebammenordination Sarah Wegerer Gmeiner-Straße 14 Ybbs an der Donau Niederösterreich 3370;X-APPLE-RADIUS=500;X-TITLE=Gmeiner-Straße 14:geo:15.0777956,48.167013
END:VEVENT
END:VCALENDAR