BEGIN:VCALENDAR
VERSION:2.0
PRODID:-//Kunterbunt - Familiennetzwerk Ybbs - ECPv6.15.20//NONSGML v1.0//EN
CALSCALE:GREGORIAN
METHOD:PUBLISH
X-ORIGINAL-URL:https://www.kunterbunt-ybbs.at
X-WR-CALDESC:Veranstaltungen für Kunterbunt - Familiennetzwerk Ybbs
REFRESH-INTERVAL;VALUE=DURATION:PT1H
X-Robots-Tag:noindex
X-PUBLISHED-TTL:PT1H
BEGIN:VTIMEZONE
TZID:Europe/Berlin
BEGIN:DAYLIGHT
TZOFFSETFROM:+0100
TZOFFSETTO:+0200
TZNAME:CEST
DTSTART:20250330T010000
END:DAYLIGHT
BEGIN:STANDARD
TZOFFSETFROM:+0200
TZOFFSETTO:+0100
TZNAME:CET
DTSTART:20251026T010000
END:STANDARD
BEGIN:DAYLIGHT
TZOFFSETFROM:+0100
TZOFFSETTO:+0200
TZNAME:CEST
DTSTART:20260329T010000
END:DAYLIGHT
BEGIN:STANDARD
TZOFFSETFROM:+0200
TZOFFSETTO:+0100
TZNAME:CET
DTSTART:20261025T010000
END:STANDARD
BEGIN:DAYLIGHT
TZOFFSETFROM:+0100
TZOFFSETTO:+0200
TZNAME:CEST
DTSTART:20270328T010000
END:DAYLIGHT
BEGIN:STANDARD
TZOFFSETFROM:+0200
TZOFFSETTO:+0100
TZNAME:CET
DTSTART:20271031T010000
END:STANDARD
END:VTIMEZONE
BEGIN:VEVENT
DTSTART;TZID=Europe/Berlin:20260419T093000
DTEND;TZID=Europe/Berlin:20260419T113000
DTSTAMP:20260422T133250
CREATED:20260318T202343Z
LAST-MODIFIED:20260323T132713Z
UID:10002284-1776591000-1776598200@www.kunterbunt-ybbs.at
SUMMARY:Laufen gegen Krebs
DESCRIPTION:Veranstalter\nFamiliennetzwerk Kunterbunt und NÖ Frauenlauf \nWas erwartet dich\nMacht mit uns mit –  beim Charity Run: Laufen gegen Krebs!\nDie Spenden des Laufes gehen an den NÖ Krebshilfe – Soforthilfefonds und das Österreichisches Rotes Kreuz – Stammzellspende.\nIhr könnt live gemeinsam mit uns dabei sein am \nSonntag\, 19. April 2026 um 09:30 Uhr\nTREFFPUNKT: Donaulände Ybbs bei Stadthalle – Spielplatz \nWir werden eine 5 km Walking-Distanz und eine 5 km Lauf-Distanz anbieten.\nBei der Walking-Strecke könnt ihr auch super mit einem Kinderwagen oder Kinder mit Roller dabei sein. \nBei der Anmeldung kannst du auch gerne den TEAMNAMEN: „Kunterbunt Ybbs“ angeben.\nhttps://www.laufengegenkrebs.at/pages/anmelden.php \nSolltet ihr am 19. April verhindert sein\, dann könnt ihr auch gerne virtuell im Team „Kunterbunt Ybbs“ teilnehmen. Dazu einfach auch unter dem selben Link anmelden. Spontan Entschlossene können auch ohne Anmeldung mitmachen und wir leiten den Spendenbetrag an die Organisation weiter. \nWir freuen uns wenn wir mit dieser Aktion gemeinsam etwas Gutes tun und mit unserem Kunterbunt-Team möglichst viele Spenden ergehen bzw. erlaufen… 😉\nGerne auch an Freunde und Familien weitersagen 🙂
URL:https://www.kunterbunt-ybbs.at/event/laufen-gegen-krebs/
LOCATION:Donaulände\, Donaulände 2\, Ybbs an der Donau\, 3370\, Österreich
CATEGORIES:Veranstaltungen
ATTACH;FMTTYPE=image/jpeg:https://www.kunterbunt-ybbs.at/wp-content/uploads/2023/04/Bilder_web-2.jpg
ORGANIZER;CN="Kunterbunt Ybbs":MAILTO:kunterbunt.ybbs@gmail.com
GEO:48.1863993;15.0804395
X-APPLE-STRUCTURED-LOCATION;VALUE=URI;X-ADDRESS=Donaulände Donaulände 2 Ybbs an der Donau 3370 Österreich;X-APPLE-RADIUS=500;X-TITLE=Donaulände 2:geo:15.0804395,48.1863993
END:VEVENT
BEGIN:VEVENT
DTSTART;TZID=Europe/Berlin:20260419T093000
DTEND;TZID=Europe/Berlin:20260419T113000
DTSTAMP:20260422T133250
CREATED:20260119T175032Z
LAST-MODIFIED:20260323T132413Z
UID:10002051-1776591000-1776598200@www.kunterbunt-ybbs.at
SUMMARY:Laufen gegen Krebs
DESCRIPTION:Veranstalter\nFamiliennetzwerk Kunterbunt und NÖ Frauenlauf \nWas erwartet dich\nMacht mit uns mit –  beim Charity Run: Laufen gegen Krebs!\nDie Spenden des Laufes gehen an den NÖ Krebshilfe – Soforthilfefonds und das Österreichisches Rotes Kreuz – Stammzellspende.\nIhr könnt live gemeinsam mit uns dabei sein am \nSonntag\, 19. April 2026 um 09:30 Uhr\nTREFFPUNKT: Donaulände Ybbs bei Stadthalle – Spielplatz \nWir werden eine 5 km Walking-Distanz und eine 5 km Lauf-Distanz anbieten.\nBei der Walking-Strecke könnt ihr auch super mit einem Kinderwagen oder Kinder mit Roller dabei sein. \nBei der Anmeldung kannst du auch gerne den TEAMNAMEN: „Kunterbunt Ybbs“ angeben.\nhttps://www.laufengegenkrebs.at/pages/anmelden.php \nSolltet ihr am 19. April verhindert sein\, dann könnt ihr auch gerne virtuell im Team „Kunterbunt Ybbs“ teilnehmen. Dazu einfach auch unter dem selben Link anmelden. Spontan Entschlossene können auch ohne Anmeldung mitmachen und wir leiten den Spendenbetrag an die Organisation weiter. \nWir freuen uns wenn wir mit dieser Aktion gemeinsam etwas Gutes tun und mit unserem Kunterbunt-Team möglichst viele Spenden ergehen bzw. erlaufen… 😉\nGerne auch an Freunde und Familien weitersagen 🙂
URL:https://www.kunterbunt-ybbs.at/event/laufen-gegen-krebs-3/
LOCATION:Donaulände\, Donaulände 2\, Ybbs an der Donau\, 3370\, Österreich
CATEGORIES:Sport & Entspannung,Vereinsangebot
ATTACH;FMTTYPE=image/jpeg:https://www.kunterbunt-ybbs.at/wp-content/uploads/2023/04/Bilder_web-2.jpg
ORGANIZER;CN="Kunterbunt Ybbs":MAILTO:kunterbunt.ybbs@gmail.com
GEO:48.1863993;15.0804395
X-APPLE-STRUCTURED-LOCATION;VALUE=URI;X-ADDRESS=Donaulände Donaulände 2 Ybbs an der Donau 3370 Österreich;X-APPLE-RADIUS=500;X-TITLE=Donaulände 2:geo:15.0804395,48.1863993
END:VEVENT
BEGIN:VEVENT
DTSTART;TZID=Europe/Berlin:20260416T190000
DTEND;TZID=Europe/Berlin:20260416T203000
DTSTAMP:20260422T133250
CREATED:20260124T092436Z
LAST-MODIFIED:20260127T182231Z
UID:10002092-1776366000-1776371400@www.kunterbunt-ybbs.at
SUMMARY:Aromavortrag - ätherische Öle für den Sommer
DESCRIPTION:Kursleiterin\nMaria Lahmer | Ärztlich geprüfte Betriebs- & Berufsaromatologin \nWas erwartet dich\nÄtherische Öle können im Sommer eine super Unterstützung sein. Für Hautregeneration bei Sonnenbrand oder Schürfwunden\, erfrischende Kopfmassagen\, sowie bei Völlegefühl im Verdauungstrakt. Natürliche Unterstützung für Sehnen und Bänder bei Wanderungen\, bei Insektenstichen oder als guter Duft für erholsamen und entspannten Schlaf. \nGemeinsam sprechen wir über die richtige Anwendung und die Einsatzgebiete dieser Naturessenzen.\nIch freu mich auf einen duftenden Abend mit dir! \nTermin\nDonnerstag\, 16. April 2026 | 19:00 – 20:30 Uhr \nOrt\nPfarrzentrum Ybbs\, Peter-Rosegger-Promenade 5\, 3370 Ybbs/Donau \nKosten    \n18\,- EURO inkl. Unterlagen\n(10€ für Kunden meines Teams – und die es werden wollen) \nAnmeldung:\nBis 15.04.: Maria Lahmer | aroma@maria-lahmer.at | 0680/14 17 266 | maria-lahmer.at \nZum Kurs mitzubringen\nStift für eigene Notizen
URL:https://www.kunterbunt-ybbs.at/event/aromavortrag-aetherische-oele-fuer-den-sommer/
LOCATION:Pfarrzentrum Ybbs/Donau\, Peter Rosegger Promenade 5\, Ybbs an der Donau\, Niederösterreich\, 3370\, Österreich
CATEGORIES:Gesundheit & Ernährung
ATTACH;FMTTYPE=image/jpeg:https://www.kunterbunt-ybbs.at/wp-content/uploads/2025/01/Aroma-SOMMER-Foto-1-scaled.jpg
ORGANIZER;CN="Maria Lahmer":MAILTO:aroma@maria-lahmer.at
GEO:48.1795792;15.0829745
X-APPLE-STRUCTURED-LOCATION;VALUE=URI;X-ADDRESS=Pfarrzentrum Ybbs/Donau Peter Rosegger Promenade 5 Ybbs an der Donau Niederösterreich 3370 Österreich;X-APPLE-RADIUS=500;X-TITLE=Peter Rosegger Promenade 5:geo:15.0829745,48.1795792
END:VEVENT
BEGIN:VEVENT
DTSTART;TZID=Europe/Berlin:20260408T183000
DTEND;TZID=Europe/Berlin:20260408T210000
DTSTAMP:20260422T133250
CREATED:20260124T093224Z
LAST-MODIFIED:20260127T181055Z
UID:10002087-1775673000-1775682000@www.kunterbunt-ybbs.at
SUMMARY:Teemischungen und Kräuter für den Frühling
DESCRIPTION:Kursleiterin\nAnita Landstetter | Dipl. FNL-Kräuterexpertin und Dipl. Bachblüten-Beraterin \nWas erwartet dich\nWenn im Frühling die Natur erwacht\, ist die beste Zeit für wohltuende und aktivierende Kräuter.\nIn diesem Kurs lernst du\, wie du heimische Wild- und Heilkräuter erkennen\, trocknen und zu harmonischen Frühlings- und Detox-Teemischungen kombinierst. Wir sprechen über Inhaltsstoffe\, Wirkungen und Dosierungen\, stellen 1–2 eigene Teemischungen her und verkosten verschiedene Sorten. \nEin Skript und mein eigens erstellter Kräuter-Quickfinder erleichtern dir das Mischen deines individuellen Heilkräutertees.\nIm Überblick – das erwartet dich:\n• Frühjahrs- & Detox-Tees\n• Wirkung & Inhaltsstoffe wichtiger Wild- & Heilkräuter\n• Tee-Zubereitungsarten\n• Praktisches Mischen & Trocknen\n• Kräuter-Quickfinder & Skript\n• Verkostung \nTermin\nMittwoch\, 8. April 2026 | 18:30 – 21:00 Uhr \nOrt\nGemeindezentrum 3681 Hofamt Priel\, Dorfplatz 1 \nKosten\n45\,- EURO pro Person | inkl 1 Teemischung + Unterlagen & Teekräuter-Quickfinder \nAnmeldung\nOafoch aus der Natur | office@oafoch.at | 0680/20 80 790 | oafoch.at/events
URL:https://www.kunterbunt-ybbs.at/event/teemischungen/
LOCATION:Gemeindezentrum Hofamt Priel\, Dorfplatz 1\, Hofamt Priel\, Niederösterreich\, 3681
CATEGORIES:Gesundheit & Ernährung
ATTACH;FMTTYPE=image/jpeg:https://www.kunterbunt-ybbs.at/wp-content/uploads/2026/01/Teekreationen-2025-2-768x644-1.jpg
ORGANIZER;CN="Anita Landstetter":MAILTO:office@oafoch.at
GEO:48.1957512;15.079047
X-APPLE-STRUCTURED-LOCATION;VALUE=URI;X-ADDRESS=Gemeindezentrum Hofamt Priel Dorfplatz 1 Hofamt Priel Niederösterreich 3681;X-APPLE-RADIUS=500;X-TITLE=Dorfplatz 1:geo:15.079047,48.1957512
END:VEVENT
BEGIN:VEVENT
DTSTART;TZID=Europe/Berlin:20260312T190000
DTEND;TZID=Europe/Berlin:20260312T203000
DTSTAMP:20260422T133250
CREATED:20260124T091502Z
LAST-MODIFIED:20260124T091622Z
UID:10002090-1773342000-1773347400@www.kunterbunt-ybbs.at
SUMMARY:Aromavortrag - Natürliche Hausapotheke
DESCRIPTION:Kursleiterin\nMaria Lahmer | Ärztlich geprüfte Aromatologin \nWas erwartet dich\nÄtherische Öle sind pflanzliche Essenzen\, die die Lebenskraft der Pflanzen enthalten. Richtig eingesetzt wirken sie vorbeugend\, stärkend und unterstützend bei körperlichen und emotionalen Beschwerden. \nIn diesem Vortrag stelle ich eine natürliche Hausapotheke vor\, die aus 12 ätherischen Ölen besteht. Unterstützung bei Hautthemen\, Verdauungsbeschwerden\, Infekten & Immunsystem\, Atmungsorgan sowie Leichtigkeit und Freude. Somit hast du natürliche Lösungen griffbereit zuhause\, um aktiv Einfluss auf deine Gesundheit zu nehmen. \nGemeinsam sprechen wir über die richtige Anwendung und die Einsatzgebiete dieser Naturessenzen. \nIch freu mich auf einen duftenden Abend mit dir! \nTermin\nDonnerstag\, 12. März 2026 | 19:00 – 20:30 Uhr \nOrt\nPfarrzentrum Ybbs\, Peter-Rosegger-Promenade 5\, 3370 Ybbs/Donau \nKosten    \n18\,- EURO inkl. Unterlagen\n(10€ für Kunden meines Teams – und die es werden wollen) \nAnmeldung:\nBis 11.03.: Maria Lahmer | aroma@maria-lahmer.at | 0680/14 17 266 | maria-lahmer.at \nZum Kurs mitzubringen:\nStift für eigene Notizen
URL:https://www.kunterbunt-ybbs.at/event/aromavortrag-natuerliche-hausapotheke-3/
LOCATION:Pfarrzentrum Ybbs/Donau\, Peter Rosegger Promenade 5\, Ybbs an der Donau\, Niederösterreich\, 3370\, Österreich
CATEGORIES:Gesundheit & Ernährung
ATTACH;FMTTYPE=image/jpeg:https://www.kunterbunt-ybbs.at/wp-content/uploads/2025/01/Bilder_web-61.jpg
ORGANIZER;CN="Maria Lahmer":MAILTO:aroma@maria-lahmer.at
GEO:48.1795792;15.0829745
X-APPLE-STRUCTURED-LOCATION;VALUE=URI;X-ADDRESS=Pfarrzentrum Ybbs/Donau Peter Rosegger Promenade 5 Ybbs an der Donau Niederösterreich 3370 Österreich;X-APPLE-RADIUS=500;X-TITLE=Peter Rosegger Promenade 5:geo:15.0829745,48.1795792
END:VEVENT
BEGIN:VEVENT
DTSTART;TZID=Europe/Berlin:20260311T183000
DTEND;TZID=Europe/Berlin:20260311T213000
DTSTAMP:20260422T133250
CREATED:20260124T093258Z
LAST-MODIFIED:20260127T180446Z
UID:10002086-1773253800-1773264600@www.kunterbunt-ybbs.at
SUMMARY:Heimische Vital- und Heilpilze – Schätze des Waldes
DESCRIPTION:Kursleiterin\nAnita Landstetter | Dipl. FNL-Kräuterexpertin und Dipl. Bachblüten-Beraterin \nWas erwartet dich\nVital- und Heilpilze begleiten den Menschen seit Jahrhunderten als natürliche Unterstützung für Gesundheit und Wohlbefinden.\nIn diesem Kurs lernst du die wichtigsten heimischen Baum- und Vitalpilze kennen – ihre Wirkstoffe Anwendungen und die sichere Verarbeitung.\nWir stellen gemeinsam 2 eigene Pilzzubereitung (Tinktur & Salbe) her und besprechen\, wie Pilzpulver und Extrakte gezielt das Immunsystem und die Vitalität fördern können.\nEin kompakter\, praxisorientierter Kurs mit Skript und vielen Anregungen für die eigene Hausapotheke. \nTermin\nMittwoch\, 11. März 2026 | 18:30 – 21:30 Uhr \nOrt\nGemeindezentrum 3681 Hofamt Priel\, Dorfplatz 1 \nKosten\n68\,- EURO pro Person | inkl. Material & Skript \nAnmeldung\nOafoch aus der Natur | office@oafoch.at | 0680/20 80 790 | oafoch.at/events
URL:https://www.kunterbunt-ybbs.at/event/heimische-vitalpilze/
LOCATION:Gemeindezentrum Hofamt Priel\, Dorfplatz 1\, Hofamt Priel\, Niederösterreich\, 3681
CATEGORIES:Gesundheit & Ernährung
ATTACH;FMTTYPE=image/jpeg:https://www.kunterbunt-ybbs.at/wp-content/uploads/2026/01/vital_Heilpilze-768x644-1.jpg
ORGANIZER;CN="Anita Landstetter":MAILTO:office@oafoch.at
GEO:48.1957512;15.079047
X-APPLE-STRUCTURED-LOCATION;VALUE=URI;X-ADDRESS=Gemeindezentrum Hofamt Priel Dorfplatz 1 Hofamt Priel Niederösterreich 3681;X-APPLE-RADIUS=500;X-TITLE=Dorfplatz 1:geo:15.079047,48.1957512
END:VEVENT
BEGIN:VEVENT
DTSTART;TZID=Europe/Berlin:20260122T190000
DTEND;TZID=Europe/Berlin:20260122T203000
DTSTAMP:20260422T133250
CREATED:20250729T105206Z
LAST-MODIFIED:20250729T105206Z
UID:10001132-1769108400-1769113800@www.kunterbunt-ybbs.at
SUMMARY:Aromavortrag - Abwehrkraft natürlich stärken
DESCRIPTION:Kursleiterin\nMaria Lahmer | Ärztlich geprüfte Aromatologin \nWas erwartet dich\nErfahre wie du mit hochwertigen ätherischen Ölen deine natürliche Abwehr des Körpers kräftigst – für dein Immunsystem. Wir sprechen darüber\, welche Naturessenzen dich in der kalten Jahreszeit bei körperlichem Unwohlsein im Genesungsprozess mit Kraft und Ausdauer unterstützen. Ob direkt am Körper aufgetragen\, Anwendung in Duftbäder oder im Diffuser vernebelt. Eine gemeinsame Duftübung rundet diesen Vortrag ab. Lerne einfache und wirkungsvolle Methoden kennen\, die deine Gesundheit & dein Wohlbefinden fördern. \nIch freu mich auf einen duftenden Abend mit dir! \nTermin\nDonnerstag\, 22. Jänner 2026 | 19:00 – 20:30 Uhr \nOrt\nPfarrzentrum Ybbs\, Peter-Rosegger-Promenade 5\, 3370 Ybbs/Donau \nKosten    \n14\,- EURO inkl. Unterlagen \nAnmeldung:\nBis 21.01.: Maria Lahmer | aroma@maria-lahmer.at | 0680/14 17 266 | maria-lahmer.at \nmind. 3 Teilnehmer max. 10 Teilnehmer \nZum Kurs mitzubringen:\nStift für eigene Notizen
URL:https://www.kunterbunt-ybbs.at/event/aromavortrag-abwehrkraft-natuerlich-staerken/
LOCATION:Pfarrzentrum Ybbs/Donau\, Peter Rosegger Promenade 5\, Ybbs an der Donau\, Niederösterreich\, 3370\, Österreich
CATEGORIES:Gesundheit & Ernährung
ATTACH;FMTTYPE=image/jpeg:https://www.kunterbunt-ybbs.at/wp-content/uploads/2025/07/Aromavortrag-–-Abwehrkraft_Foto1-scaled.jpg
ORGANIZER;CN="Maria Lahmer":MAILTO:aroma@maria-lahmer.at
GEO:48.1795792;15.0829745
X-APPLE-STRUCTURED-LOCATION;VALUE=URI;X-ADDRESS=Pfarrzentrum Ybbs/Donau Peter Rosegger Promenade 5 Ybbs an der Donau Niederösterreich 3370 Österreich;X-APPLE-RADIUS=500;X-TITLE=Peter Rosegger Promenade 5:geo:15.0829745,48.1795792
END:VEVENT
END:VCALENDAR