BEGIN:VCALENDAR
VERSION:2.0
PRODID:-//Kunterbunt - Familiennetzwerk Ybbs - ECPv6.15.20//NONSGML v1.0//EN
CALSCALE:GREGORIAN
METHOD:PUBLISH
X-ORIGINAL-URL:https://www.kunterbunt-ybbs.at
X-WR-CALDESC:Veranstaltungen für Kunterbunt - Familiennetzwerk Ybbs
REFRESH-INTERVAL;VALUE=DURATION:PT1H
X-Robots-Tag:noindex
X-PUBLISHED-TTL:PT1H
BEGIN:VTIMEZONE
TZID:Europe/Berlin
BEGIN:DAYLIGHT
TZOFFSETFROM:+0100
TZOFFSETTO:+0200
TZNAME:CEST
DTSTART:20250330T010000
END:DAYLIGHT
BEGIN:STANDARD
TZOFFSETFROM:+0200
TZOFFSETTO:+0100
TZNAME:CET
DTSTART:20251026T010000
END:STANDARD
BEGIN:DAYLIGHT
TZOFFSETFROM:+0100
TZOFFSETTO:+0200
TZNAME:CEST
DTSTART:20260329T010000
END:DAYLIGHT
BEGIN:STANDARD
TZOFFSETFROM:+0200
TZOFFSETTO:+0100
TZNAME:CET
DTSTART:20261025T010000
END:STANDARD
BEGIN:DAYLIGHT
TZOFFSETFROM:+0100
TZOFFSETTO:+0200
TZNAME:CEST
DTSTART:20270328T010000
END:DAYLIGHT
BEGIN:STANDARD
TZOFFSETFROM:+0200
TZOFFSETTO:+0100
TZNAME:CET
DTSTART:20271031T010000
END:STANDARD
END:VTIMEZONE
BEGIN:VEVENT
DTSTART;TZID=Europe/Berlin:20260508T150000
DTEND;TZID=Europe/Berlin:20260508T180000
DTSTAMP:20260421T133208
CREATED:20250312T202941Z
LAST-MODIFIED:20260318T194428Z
UID:10001109-1778252400-1778263200@www.kunterbunt-ybbs.at
SUMMARY:Kunterbunt Familienfest
DESCRIPTION:Das Familiennetzwerk Ybbs „Kunterbunt“ feiert sein 4. Jahr und alle feiern mit beim Kunterbunt Familienfest! \n\n\nFrühlingshafte Mitmachstationen\nBasteln für den Muttertag\nTanzen\, Spielen und Freunde treffen\nFreier Eintritt für die ganze Familie\nKaffee und Kuchen als kleine Stärkung\n\n\nFreitag\, 08. Mai 2026 | 15:00 – 18:00 Uhr \nPeter-Rosegger-Promenade 5\, 3370  Ybbs/Donau \nWir freuen uns auf euren Besuch!
URL:https://www.kunterbunt-ybbs.at/event/3-kunterbuntes-jahresfest/
LOCATION:Pfarrzentrum Ybbs/Donau\, Peter Rosegger Promenade 5\, Ybbs an der Donau\, Niederösterreich\, 3370\, Österreich
CATEGORIES:Musik & Kreativität
ATTACH;FMTTYPE=image/jpeg:https://www.kunterbunt-ybbs.at/wp-content/uploads/2025/03/Jahresfest_Kunterbunt-89-x-133-mm-2.jpg
ORGANIZER;CN="Kunterbunt Ybbs":MAILTO:kunterbunt.ybbs@gmail.com
GEO:48.1795792;15.0829745
X-APPLE-STRUCTURED-LOCATION;VALUE=URI;X-ADDRESS=Pfarrzentrum Ybbs/Donau Peter Rosegger Promenade 5 Ybbs an der Donau Niederösterreich 3370 Österreich;X-APPLE-RADIUS=500;X-TITLE=Peter Rosegger Promenade 5:geo:15.0829745,48.1795792
END:VEVENT
BEGIN:VEVENT
DTSTART;TZID=Europe/Berlin:20260508T150000
DTEND;TZID=Europe/Berlin:20260508T180000
DTSTAMP:20260421T133208
CREATED:20260318T194324Z
LAST-MODIFIED:20260318T194433Z
UID:10002278-1778252400-1778263200@www.kunterbunt-ybbs.at
SUMMARY:Kunterbunt Familienfest
DESCRIPTION:Das Familiennetzwerk Ybbs „Kunterbunt“ feiert sein 4. Jahr und alle feiern mit beim Kunterbunt Familienfest! \n\n\nFrühlingshafte Mitmachstationen\nBasteln für den Muttertag\nTanzen\, Spielen und Freunde treffen\nFreier Eintritt für die ganze Familie\nKaffee und Kuchen als kleine Stärkung\n\n\nFreitag\, 08. Mai 2026 | 15:00 – 18:00 Uhr \nPeter-Rosegger-Promenade 5\, 3370  Ybbs/Donau \nWir freuen uns auf euren Besuch!
URL:https://www.kunterbunt-ybbs.at/event/kunterbunt-familienfest/
LOCATION:Pfarrzentrum Ybbs/Donau\, Peter Rosegger Promenade 5\, Ybbs an der Donau\, Niederösterreich\, 3370\, Österreich
CATEGORIES:Veranstaltungen
ATTACH;FMTTYPE=image/jpeg:https://www.kunterbunt-ybbs.at/wp-content/uploads/2025/03/Jahresfest_Kunterbunt-89-x-133-mm-2.jpg
ORGANIZER;CN="Kunterbunt Ybbs":MAILTO:kunterbunt.ybbs@gmail.com
GEO:48.1795792;15.0829745
X-APPLE-STRUCTURED-LOCATION;VALUE=URI;X-ADDRESS=Pfarrzentrum Ybbs/Donau Peter Rosegger Promenade 5 Ybbs an der Donau Niederösterreich 3370 Österreich;X-APPLE-RADIUS=500;X-TITLE=Peter Rosegger Promenade 5:geo:15.0829745,48.1795792
END:VEVENT
END:VCALENDAR