BEGIN:VCALENDAR
VERSION:2.0
PRODID:-//Kunterbunt - Familiennetzwerk Ybbs - ECPv6.15.20//NONSGML v1.0//EN
CALSCALE:GREGORIAN
METHOD:PUBLISH
X-ORIGINAL-URL:https://www.kunterbunt-ybbs.at
X-WR-CALDESC:Veranstaltungen für Kunterbunt - Familiennetzwerk Ybbs
REFRESH-INTERVAL;VALUE=DURATION:PT1H
X-Robots-Tag:noindex
X-PUBLISHED-TTL:PT1H
BEGIN:VTIMEZONE
TZID:Europe/Berlin
BEGIN:DAYLIGHT
TZOFFSETFROM:+0100
TZOFFSETTO:+0200
TZNAME:CEST
DTSTART:20250330T010000
END:DAYLIGHT
BEGIN:STANDARD
TZOFFSETFROM:+0200
TZOFFSETTO:+0100
TZNAME:CET
DTSTART:20251026T010000
END:STANDARD
BEGIN:DAYLIGHT
TZOFFSETFROM:+0100
TZOFFSETTO:+0200
TZNAME:CEST
DTSTART:20260329T010000
END:DAYLIGHT
BEGIN:STANDARD
TZOFFSETFROM:+0200
TZOFFSETTO:+0100
TZNAME:CET
DTSTART:20261025T010000
END:STANDARD
BEGIN:DAYLIGHT
TZOFFSETFROM:+0100
TZOFFSETTO:+0200
TZNAME:CEST
DTSTART:20270328T010000
END:DAYLIGHT
BEGIN:STANDARD
TZOFFSETFROM:+0200
TZOFFSETTO:+0100
TZNAME:CET
DTSTART:20271031T010000
END:STANDARD
END:VTIMEZONE
BEGIN:VEVENT
DTSTART;TZID=Europe/Berlin:20260313T101500
DTEND;TZID=Europe/Berlin:20260313T111500
DTSTAMP:20260421T100705
CREATED:20260119T175404Z
LAST-MODIFIED:20260310T090009Z
UID:10002060-1773396900-1773400500@www.kunterbunt-ybbs.at
SUMMARY:Babytreff
DESCRIPTION:Kursleiterin\nDaniela Schütz | Eltern-Kind-Gruppenleiterin \nWas erwartet dich\nMütter\, Väter und andere Bezugspersonen mit ihren Babys sind eingeladen „Gleichgesinnte“ kennenzulernen und sich auszutauschen. Mit einem kleinen Input zu Baby- und Kuschelspielen\, freiem Spiel und Zeit für Austausch\nverbringen wir einen gemütlichen Vormittag. Nach Bedarf laden wir auch externe ExpertInnen für mehr fachliche Inputs in unsere Runde ein. Da die zeitliche Planung mit Babys oft schwierig ist\, kann jeder Termin einzeln besucht\nwerden. Es ist keine Anmeldung erforderlich. \nTermine\nFreitag\, 13/20/27. März\, 10./17./24. April\, 15./29. Mai\, 19./26. Juni 2026 | 10:15- 11:15 Uhr \nOrt\nPfarrzentrum Ybbs\, Peter-Rosegger-Promenade 5\, 3370 Ybbs/Donau \nKosten     \n2\,- EURO pro Treffen \nKontakt (für Whatsapp-Gruppe)\nDaniela Schütz | 0650/71 52 815
URL:https://www.kunterbunt-ybbs.at/event/babytreff-2/2026-03-13/
LOCATION:Pfarrzentrum Ybbs/Donau\, Peter Rosegger Promenade 5\, Ybbs an der Donau\, Niederösterreich\, 3370\, Österreich
CATEGORIES:Schwangerschaft & Baby,Vereinsangebot
ATTACH;FMTTYPE=image/jpeg:https://www.kunterbunt-ybbs.at/wp-content/uploads/2022/07/32F45883-3FB4-4AE8-ADF5-E6C6AD3886A6.jpeg
ORGANIZER;CN="Kunterbunt Ybbs":MAILTO:kunterbunt.ybbs@gmail.com
GEO:48.1795792;15.0829745
X-APPLE-STRUCTURED-LOCATION;VALUE=URI;X-ADDRESS=Pfarrzentrum Ybbs/Donau Peter Rosegger Promenade 5 Ybbs an der Donau Niederösterreich 3370 Österreich;X-APPLE-RADIUS=500;X-TITLE=Peter Rosegger Promenade 5:geo:15.0829745,48.1795792
END:VEVENT
END:VCALENDAR